BEGIN:VCALENDAR
VERSION:2.0
PRODID:-//Face It - ECPv6.15.18//NONSGML v1.0//EN
CALSCALE:GREGORIAN
METHOD:PUBLISH
X-ORIGINAL-URL:https://faceitabuse.org
X-WR-CALDESC:Events for Face It
REFRESH-INTERVAL;VALUE=DURATION:PT1H
X-Robots-Tag:noindex
X-PUBLISHED-TTL:PT1H
BEGIN:VTIMEZONE
TZID:America/Kentucky/Louisville
BEGIN:DAYLIGHT
TZOFFSETFROM:-0500
TZOFFSETTO:-0400
TZNAME:EDT
DTSTART:20240310T070000
END:DAYLIGHT
BEGIN:STANDARD
TZOFFSETFROM:-0400
TZOFFSETTO:-0500
TZNAME:EST
DTSTART:20241103T060000
END:STANDARD
BEGIN:DAYLIGHT
TZOFFSETFROM:-0500
TZOFFSETTO:-0400
TZNAME:EDT
DTSTART:20250309T070000
END:DAYLIGHT
BEGIN:STANDARD
TZOFFSETFROM:-0400
TZOFFSETTO:-0500
TZNAME:EST
DTSTART:20251102T060000
END:STANDARD
BEGIN:DAYLIGHT
TZOFFSETFROM:-0500
TZOFFSETTO:-0400
TZNAME:EDT
DTSTART:20260308T070000
END:DAYLIGHT
BEGIN:STANDARD
TZOFFSETFROM:-0400
TZOFFSETTO:-0500
TZNAME:EST
DTSTART:20261101T060000
END:STANDARD
END:VTIMEZONE
BEGIN:VEVENT
DTSTART;TZID=America/Kentucky/Louisville:20250303T090000
DTEND;TZID=America/Kentucky/Louisville:20250307T170000
DTSTAMP:20260425T103628
CREATED:20250116T174521Z
LAST-MODIFIED:20250116T174521Z
UID:14630-1740992400-1741366800@faceitabuse.org
SUMMARY:Children's Advocacy Week
DESCRIPTION:Save the Date – Children’s Advocacy Week is March 3-7\, 2025 with Children’s Advocacy Day at the Capitol on Wednesday\, March 5th! \nDuring Children’s Advocacy Week\, Kentucky Youth Advocates hosts a series of virtual events with more opportunities to connect with legislators and other advocates. Kentucky kids need advocates more than ever before and we’re counting on YOU to show up for kids in 2025! \nFind action steps you can take related to Children’s Advocacy Week including signing up for email alerts\, information on bringing a group of youth\, and sponsorship opportunities at kyyouth.org/childrens-advocacy-week/
URL:https://faceitabuse.org/event/childrens-advocacy-week-3/
END:VEVENT
BEGIN:VEVENT
DTSTART;TZID=America/Kentucky/Louisville:20250307T120000
DTEND;TZID=America/Kentucky/Louisville:20250307T133000
DTSTAMP:20260425T103628
CREATED:20250213T205955Z
LAST-MODIFIED:20250214T233101Z
UID:14738-1741348800-1741354200@faceitabuse.org
SUMMARY:Face It Curiosity Club with Alicia Parham
DESCRIPTION:The Kosair for Kids Face It Movement invites you to our next Curiosity Club meeting on Friday\, March 7 from 12:00 – 1:30 PM ET. This is a space for learning\, discussion\, and action on critical issues related to child maltreatment. \nThis session’s focus: Sextortion – The Intersection of Online Exploitation and Human Trafficking. Alicia Parham from Homeland Security Investigations’ Victim Assistance Program will share insights on how predators target youth\, the tactics they use\, and what professionals and caregivers can do to protect children.\n\nThis is a great opportunity to: \n\nLearn the latest research and trends in child exploitation\nDiscuss actionable strategies to prevent and respond to these crimes\nConnect with professionals across different sectors\n\n\nDate: Friday\, March 7\nTime: 12:00 – 1:30 PM ET\nLocation: 10200 Linn Station Rd.\, Suite 310 Louisville\, KY 40223 (Hybrid/Virtual option available)\nSocial Work CEU’s available. Register.
URL:https://faceitabuse.org/event/face-it-curiosity-club-with-alicia-parham/
LOCATION:kentucky youth advocates\, 10200 Linn Station Road\, Suite #310\, Louisville\, KY\, 40223\, United States
END:VEVENT
END:VCALENDAR