BEGIN:VCALENDAR
VERSION:2.0
PRODID:-//Face It - ECPv6.15.18//NONSGML v1.0//EN
CALSCALE:GREGORIAN
METHOD:PUBLISH
X-WR-CALNAME:Face It
X-ORIGINAL-URL:https://faceitabuse.org
X-WR-CALDESC:Events for Face It
REFRESH-INTERVAL;VALUE=DURATION:PT1H
X-Robots-Tag:noindex
X-PUBLISHED-TTL:PT1H
BEGIN:VTIMEZONE
TZID:America/Kentucky/Louisville
BEGIN:DAYLIGHT
TZOFFSETFROM:-0500
TZOFFSETTO:-0400
TZNAME:EDT
DTSTART:20240310T070000
END:DAYLIGHT
BEGIN:STANDARD
TZOFFSETFROM:-0400
TZOFFSETTO:-0500
TZNAME:EST
DTSTART:20241103T060000
END:STANDARD
BEGIN:DAYLIGHT
TZOFFSETFROM:-0500
TZOFFSETTO:-0400
TZNAME:EDT
DTSTART:20250309T070000
END:DAYLIGHT
BEGIN:STANDARD
TZOFFSETFROM:-0400
TZOFFSETTO:-0500
TZNAME:EST
DTSTART:20251102T060000
END:STANDARD
BEGIN:DAYLIGHT
TZOFFSETFROM:-0500
TZOFFSETTO:-0400
TZNAME:EDT
DTSTART:20260308T070000
END:DAYLIGHT
BEGIN:STANDARD
TZOFFSETFROM:-0400
TZOFFSETTO:-0500
TZNAME:EST
DTSTART:20261101T060000
END:STANDARD
END:VTIMEZONE
BEGIN:VEVENT
DTSTART;TZID=America/Kentucky/Louisville:20250318T083000
DTEND;TZID=America/Kentucky/Louisville:20250318T160000
DTSTAMP:20260425T074923
CREATED:20240821T203447Z
LAST-MODIFIED:20241125T181336Z
UID:14130-1742286600-1742313600@faceitabuse.org
SUMMARY:UofL Health Peace Hospital - Behavioral Health Summit
DESCRIPTION:Save the date for the 3rd Annual Behavioral Health Summit on Tuesday\, March 18\, 2025 8:30 a.m.- 4 p.m.  at the PNC Club – Cardinal Stadium. This years topic is “Gen Z + Mental Health: What is impacting our youth and young adults today?” Eventbrite invitation and agenda coming soon.
URL:https://faceitabuse.org/event/uofl-health-peace-hospital-behavioral-health-summit/
END:VEVENT
BEGIN:VEVENT
DTSTART;TZID=America/Kentucky/Louisville:20250318T120000
DTEND;TZID=America/Kentucky/Louisville:20250318T130000
DTSTAMP:20260425T074923
CREATED:20250214T232656Z
LAST-MODIFIED:20250214T232656Z
UID:14776-1742299200-1742302800@faceitabuse.org
SUMMARY:Face It Lunch and Learn - "Smoke After the Fire: The Lingering Effects of Vicarious Trauma" with Glennesha Mudd
DESCRIPTION:Join us for a virtual Lunch and Learn “Smoke After the Fire: The Lingering Effects of Vicarious Trauma” with Glennesha Mudd. This workshop is designed to help individuals who are exposed to trauma through their work and personal experiences understand\, manage\, and mitigate the effects of vicarious trauma. Participants will explore the psychological and emotional impacts of secondary trauma\, identify early warning signs\, and learn evidence-based strategies to build personal and organizational resilience. Register here.  \n\n\n\n\n\n\n\nParticipants will be able to \n\ndefine vicarious trauma\nidentify and recognize the signs of vicarious trauma\nunderstand the impact of vicarious trauma\nidentify strategies to overcoming vicarious trauma\nimplement workplace practices to reduce vicarious trauma risk\n\n\nSocial Work CEU’s available. 
URL:https://faceitabuse.org/event/face-it-lunch-and-learn-smoke-after-the-fire-the-lingering-effects-of-vicarious-trauma-with-glennesha-mudd/
END:VEVENT
BEGIN:VEVENT
DTSTART;TZID=America/Kentucky/Louisville:20250318T190000
DTEND;TZID=America/Kentucky/Louisville:20250318T200000
DTSTAMP:20260425T074923
CREATED:20250310T190139Z
LAST-MODIFIED:20250316T150721Z
UID:14841-1742324400-1742328000@faceitabuse.org
SUMMARY:Early Childhood Special Ed Training: Supporting Parents of Children with Special Needs
DESCRIPTION:Event full – Registration closed. \nJoin us for a VIRTUAL training on March 18 from 7-8 pm EST focused on Supporting Parents of Children with Special Needs with TyiaLynn Scott from Critially Loved. 1 hour child care training credit available. \nIn this training you will learn: \n\nUnique ways to support parents of special needs children practically and emotionally\nHow to reduce child abuse in special needs children by educating parents\nAbout resources available to share with special needs parents to provide additional support\n\nTuesday\, March 18\, 2025 @ 7:00 PM
URL:https://faceitabuse.org/event/early-childhood-special-ed-training-supporting-parents-of-children-with-special-needs/
END:VEVENT
END:VCALENDAR