BEGIN:VCALENDAR
VERSION:2.0
PRODID:-//Face It - ECPv6.15.18//NONSGML v1.0//EN
CALSCALE:GREGORIAN
METHOD:PUBLISH
X-ORIGINAL-URL:https://faceitabuse.org
X-WR-CALDESC:Events for Face It
REFRESH-INTERVAL;VALUE=DURATION:PT1H
X-Robots-Tag:noindex
X-PUBLISHED-TTL:PT1H
BEGIN:VTIMEZONE
TZID:America/Kentucky/Louisville
BEGIN:DAYLIGHT
TZOFFSETFROM:-0500
TZOFFSETTO:-0400
TZNAME:EDT
DTSTART:20240310T070000
END:DAYLIGHT
BEGIN:STANDARD
TZOFFSETFROM:-0400
TZOFFSETTO:-0500
TZNAME:EST
DTSTART:20241103T060000
END:STANDARD
BEGIN:DAYLIGHT
TZOFFSETFROM:-0500
TZOFFSETTO:-0400
TZNAME:EDT
DTSTART:20250309T070000
END:DAYLIGHT
BEGIN:STANDARD
TZOFFSETFROM:-0400
TZOFFSETTO:-0500
TZNAME:EST
DTSTART:20251102T060000
END:STANDARD
BEGIN:DAYLIGHT
TZOFFSETFROM:-0500
TZOFFSETTO:-0400
TZNAME:EDT
DTSTART:20260308T070000
END:DAYLIGHT
BEGIN:STANDARD
TZOFFSETFROM:-0400
TZOFFSETTO:-0500
TZNAME:EST
DTSTART:20261101T060000
END:STANDARD
END:VTIMEZONE
BEGIN:VEVENT
DTSTART;TZID=America/Kentucky/Louisville:20250402T120000
DTEND;TZID=America/Kentucky/Louisville:20250402T130000
DTSTAMP:20260425T063851
CREATED:20250307T231555Z
LAST-MODIFIED:20250312T031025Z
UID:14832-1743595200-1743598800@faceitabuse.org
SUMMARY:Face It Lunch & Learn: The Link By the Numbers - Animal Abuse and Interpersonal Violence
DESCRIPTION:Join us on April 2 from 12-1PM ET for a virtual Lunch and Learn: The Link By the Numbers – Animal Abuse and Interpersonal Violence with Joy Keeley from The Kentucky Link Coalition. This workshop is designed to learn to recognize and identify the links between animal abuse and crimes against people. Register.
URL:https://faceitabuse.org/event/face-it-lunch-learn-the-link-by-the-numbers-animal-abuse-and-interpersonal-violence/
CATEGORIES:Child Abuse Prevention Month
END:VEVENT
END:VCALENDAR