BEGIN:VCALENDAR
VERSION:2.0
PRODID:-//Face It - ECPv6.15.18//NONSGML v1.0//EN
CALSCALE:GREGORIAN
METHOD:PUBLISH
X-WR-CALNAME:Face It
X-ORIGINAL-URL:https://faceitabuse.org
X-WR-CALDESC:Events for Face It
REFRESH-INTERVAL;VALUE=DURATION:PT1H
X-Robots-Tag:noindex
X-PUBLISHED-TTL:PT1H
BEGIN:VTIMEZONE
TZID:America/Kentucky/Louisville
BEGIN:DAYLIGHT
TZOFFSETFROM:-0500
TZOFFSETTO:-0400
TZNAME:EDT
DTSTART:20240310T070000
END:DAYLIGHT
BEGIN:STANDARD
TZOFFSETFROM:-0400
TZOFFSETTO:-0500
TZNAME:EST
DTSTART:20241103T060000
END:STANDARD
BEGIN:DAYLIGHT
TZOFFSETFROM:-0500
TZOFFSETTO:-0400
TZNAME:EDT
DTSTART:20250309T070000
END:DAYLIGHT
BEGIN:STANDARD
TZOFFSETFROM:-0400
TZOFFSETTO:-0500
TZNAME:EST
DTSTART:20251102T060000
END:STANDARD
BEGIN:DAYLIGHT
TZOFFSETFROM:-0500
TZOFFSETTO:-0400
TZNAME:EDT
DTSTART:20260308T070000
END:DAYLIGHT
BEGIN:STANDARD
TZOFFSETFROM:-0400
TZOFFSETTO:-0500
TZNAME:EST
DTSTART:20261101T060000
END:STANDARD
END:VTIMEZONE
BEGIN:VEVENT
DTSTART;TZID=America/Kentucky/Louisville:20250730T120000
DTEND;TZID=America/Kentucky/Louisville:20250730T130000
DTSTAMP:20260424T230511
CREATED:20250711T204800Z
LAST-MODIFIED:20250714T201626Z
UID:15458-1753876800-1753880400@faceitabuse.org
SUMMARY:Lunch and Learn: Sextortion 101 - Behind Every Screen Is a Risk—And a Chance to Protect
DESCRIPTION:Join us for a virtual Lunch and Learn ‘Sextortion 101 – Behind Every Screen Is a Risk—And a Chance to Protect’ with ECHO on July 30 from 12PM – 1PM ET. This presentation offered provides a foundational understanding of sextortion\, what it is\, how it happens\, and who is most at risk. The training also breaks down the reporting process and empowers participants with the practical tools needed to respond effectively and protect those who are most vulnerable. Register here. \n  \n  \n\nWhat You’ll Learn: \n– A clear definition of sextortion and how it impacts individuals and families\n– How sextortion commonly begins and progresses\, especially among youth\n– The influence of technology\, gaming platforms\, and social media in facilitating sextortion\n– Key warning signs that a child or young person may be at risk\n– Practical prevention strategies adults can use to protect children and teens\n– How to respond effectively if sextortion is suspected or disclosed\n– The importance of empathy\, active listening\, and clear communication when supporting victims of sextortion \nSocial Work CEU’s available.
URL:https://faceitabuse.org/event/lunch-and-learn-sextortion-101-behind-every-screen-is-a-risk-and-a-chance-to-protect/
END:VEVENT
END:VCALENDAR