BEGIN:VCALENDAR
VERSION:2.0
PRODID:-//Face It - ECPv6.15.18//NONSGML v1.0//EN
CALSCALE:GREGORIAN
METHOD:PUBLISH
X-WR-CALNAME:Face It
X-ORIGINAL-URL:https://faceitabuse.org
X-WR-CALDESC:Events for Face It
REFRESH-INTERVAL;VALUE=DURATION:PT1H
X-Robots-Tag:noindex
X-PUBLISHED-TTL:PT1H
BEGIN:VTIMEZONE
TZID:America/Kentucky/Louisville
BEGIN:DAYLIGHT
TZOFFSETFROM:-0500
TZOFFSETTO:-0400
TZNAME:EDT
DTSTART:20240310T070000
END:DAYLIGHT
BEGIN:STANDARD
TZOFFSETFROM:-0400
TZOFFSETTO:-0500
TZNAME:EST
DTSTART:20241103T060000
END:STANDARD
BEGIN:DAYLIGHT
TZOFFSETFROM:-0500
TZOFFSETTO:-0400
TZNAME:EDT
DTSTART:20250309T070000
END:DAYLIGHT
BEGIN:STANDARD
TZOFFSETFROM:-0400
TZOFFSETTO:-0500
TZNAME:EST
DTSTART:20251102T060000
END:STANDARD
BEGIN:DAYLIGHT
TZOFFSETFROM:-0500
TZOFFSETTO:-0400
TZNAME:EDT
DTSTART:20260308T070000
END:DAYLIGHT
BEGIN:STANDARD
TZOFFSETFROM:-0400
TZOFFSETTO:-0500
TZNAME:EST
DTSTART:20261101T060000
END:STANDARD
END:VTIMEZONE
BEGIN:VEVENT
DTSTART;TZID=America/Kentucky/Louisville:20250919T110000
DTEND;TZID=America/Kentucky/Louisville:20250919T120000
DTSTAMP:20260424T212908
CREATED:20250820T201231Z
LAST-MODIFIED:20250820T201303Z
UID:15639-1758279600-1758283200@faceitabuse.org
SUMMARY:Face It Curiosity Club - Abuse in Child Care Programs
DESCRIPTION:The Kosair for Kids Face It Movement invites you to our next Curiosity Club event on Friday\, September 19 at 11:00 AM ET. We’ll be joined by Dr. Sarah Vanover\, Policy and Advocacy Director at Kentucky Youth Advocates\, who will discuss the troubling rise in child abuse cases occurring in child care centers. This is a great opportunity to learn more about the contributing factors behind this increase\, discuss actionable strategies to ensure the health and safety of every child in child care centers\, and connect with like-minded professionals and advocates. Register. \nDate: Friday\, September 19\nTime: 11:00 AM-12:00 PM ET\nLocation: Zoom \nECE and Social Work CEU’s available. 
URL:https://faceitabuse.org/event/15639/
END:VEVENT
END:VCALENDAR