BEGIN:VCALENDAR
VERSION:2.0
PRODID:-//Face It - ECPv6.15.18//NONSGML v1.0//EN
CALSCALE:GREGORIAN
METHOD:PUBLISH
X-ORIGINAL-URL:https://faceitabuse.org
X-WR-CALDESC:Events for Face It
REFRESH-INTERVAL;VALUE=DURATION:PT1H
X-Robots-Tag:noindex
X-PUBLISHED-TTL:PT1H
BEGIN:VTIMEZONE
TZID:America/Kentucky/Louisville
BEGIN:DAYLIGHT
TZOFFSETFROM:-0500
TZOFFSETTO:-0400
TZNAME:EDT
DTSTART:20250309T070000
END:DAYLIGHT
BEGIN:STANDARD
TZOFFSETFROM:-0400
TZOFFSETTO:-0500
TZNAME:EST
DTSTART:20251102T060000
END:STANDARD
BEGIN:DAYLIGHT
TZOFFSETFROM:-0500
TZOFFSETTO:-0400
TZNAME:EDT
DTSTART:20260308T070000
END:DAYLIGHT
BEGIN:STANDARD
TZOFFSETFROM:-0400
TZOFFSETTO:-0500
TZNAME:EST
DTSTART:20261101T060000
END:STANDARD
BEGIN:DAYLIGHT
TZOFFSETFROM:-0500
TZOFFSETTO:-0400
TZNAME:EDT
DTSTART:20270314T070000
END:DAYLIGHT
BEGIN:STANDARD
TZOFFSETFROM:-0400
TZOFFSETTO:-0500
TZNAME:EST
DTSTART:20271107T060000
END:STANDARD
END:VTIMEZONE
BEGIN:VEVENT
DTSTART;TZID=America/Kentucky/Louisville:20260115T083000
DTEND;TZID=America/Kentucky/Louisville:20260115T163000
DTSTAMP:20260424T145051
CREATED:20251229T192912Z
LAST-MODIFIED:20251229T192912Z
UID:15970-1768465800-1768494600@faceitabuse.org
SUMMARY:January 2026 Kentucky Family Leadership Academy (KFLA)
DESCRIPTION:*VIRTUAL TRAINING* \nThe January 2026 KFLA Flyer pdf is for: \n— Parents/primary caregivers of children birth to twenty-six years old with emotional/ social delays or behavioral health disabilities \n— Young adults (16-25 years old) with a behavioral health disability. \n— Youth must be at least 16 years old and be able to participate in the group process\, with parental or legal guardian permission. \n— Providers or agency partners who understand and support the “Family and Youth-Driven System of Care” and want to assist KPFC in moving forward in this effort. \n— This training is also a pre-requisite for anyone planning to attend either the Kentucky Family Peer Support Specialist Core Competency Training (CCT) or the Kentucky Youth Peer Support Specialist Core Competency Training (CCT). The KFLA must be successfully completed prior to approval of participation in either CCT offering. \nEvent Dates:  Thursday\, January 15th – Friday\, January 16th\, 2026\nEvent Time: 8:30am EST to 4:30pm EST \nEvent Location: Virtual\nTraining Fee: $250\nRegister here\nContact us at: amanda@kypartnership.org  
URL:https://faceitabuse.org/event/january-2026-kentucky-family-leadership-academy-kfla/
END:VEVENT
END:VCALENDAR