BEGIN:VCALENDAR
VERSION:2.0
PRODID:-//Face It - ECPv6.15.18//NONSGML v1.0//EN
CALSCALE:GREGORIAN
METHOD:PUBLISH
X-WR-CALNAME:Face It
X-ORIGINAL-URL:https://faceitabuse.org
X-WR-CALDESC:Events for Face It
REFRESH-INTERVAL;VALUE=DURATION:PT1H
X-Robots-Tag:noindex
X-PUBLISHED-TTL:PT1H
BEGIN:VTIMEZONE
TZID:America/Kentucky/Louisville
BEGIN:DAYLIGHT
TZOFFSETFROM:-0500
TZOFFSETTO:-0400
TZNAME:EDT
DTSTART:20250309T070000
END:DAYLIGHT
BEGIN:STANDARD
TZOFFSETFROM:-0400
TZOFFSETTO:-0500
TZNAME:EST
DTSTART:20251102T060000
END:STANDARD
BEGIN:DAYLIGHT
TZOFFSETFROM:-0500
TZOFFSETTO:-0400
TZNAME:EDT
DTSTART:20260308T070000
END:DAYLIGHT
BEGIN:STANDARD
TZOFFSETFROM:-0400
TZOFFSETTO:-0500
TZNAME:EST
DTSTART:20261101T060000
END:STANDARD
BEGIN:DAYLIGHT
TZOFFSETFROM:-0500
TZOFFSETTO:-0400
TZNAME:EDT
DTSTART:20270314T070000
END:DAYLIGHT
BEGIN:STANDARD
TZOFFSETFROM:-0400
TZOFFSETTO:-0500
TZNAME:EST
DTSTART:20271107T060000
END:STANDARD
END:VTIMEZONE
BEGIN:VEVENT
DTSTART;TZID=America/Kentucky/Louisville:20260317T083000
DTEND;TZID=America/Kentucky/Louisville:20260317T153000
DTSTAMP:20260424T114014
CREATED:20260128T184945Z
LAST-MODIFIED:20260128T184945Z
UID:16025-1773736200-1773761400@faceitabuse.org
SUMMARY:UofL Health-Peace Hospital's 4th Annual Behavioral Health Summit
DESCRIPTION:Join UofL Health-Peace Hospital’s 4th Annual Behavioral Health Summit on March 17 for a day of insightful discussions and networking opportunities. The summit will feature Keynote Brandon Soho\, Founder of the podcast and movement The Mental Game focused on mental health advocacy\, as well as other experts in the field. \nWhether you’re a behavioral health professional\, student\, or simply interested in learning more\, this event is perfect for you. Don’t miss out on this chance to connect with like-minded individuals and gain valuable insights into the latest trends and developments in the industry. Mark your calendars and secure your spot at the UofL Health – Peace Hospital Behavioral Health Summit! CEUs available for various professions.  \nTickets and agenda on EventBrite.\nContact lisa.prewitt@uoflhealth.org with questions.\nDate: March 17\nTime: 8:30am-3:30pm\nLocation: L&N Federal Credit Union Stadium\, South Floyd Street\, Louisville\, KY
URL:https://faceitabuse.org/event/uofl-health-peace-hospitals-4th-annual-behavioral-health-summit/
END:VEVENT
END:VCALENDAR