BEGIN:VCALENDAR
VERSION:2.0
PRODID:-//Face It - ECPv6.15.18//NONSGML v1.0//EN
CALSCALE:GREGORIAN
METHOD:PUBLISH
X-WR-CALNAME:Face It
X-ORIGINAL-URL:https://faceitabuse.org
X-WR-CALDESC:Events for Face It
REFRESH-INTERVAL;VALUE=DURATION:PT1H
X-Robots-Tag:noindex
X-PUBLISHED-TTL:PT1H
BEGIN:VTIMEZONE
TZID:America/Kentucky/Louisville
BEGIN:DAYLIGHT
TZOFFSETFROM:-0500
TZOFFSETTO:-0400
TZNAME:EDT
DTSTART:20250309T070000
END:DAYLIGHT
BEGIN:STANDARD
TZOFFSETFROM:-0400
TZOFFSETTO:-0500
TZNAME:EST
DTSTART:20251102T060000
END:STANDARD
BEGIN:DAYLIGHT
TZOFFSETFROM:-0500
TZOFFSETTO:-0400
TZNAME:EDT
DTSTART:20260308T070000
END:DAYLIGHT
BEGIN:STANDARD
TZOFFSETFROM:-0400
TZOFFSETTO:-0500
TZNAME:EST
DTSTART:20261101T060000
END:STANDARD
BEGIN:DAYLIGHT
TZOFFSETFROM:-0500
TZOFFSETTO:-0400
TZNAME:EDT
DTSTART:20270314T070000
END:DAYLIGHT
BEGIN:STANDARD
TZOFFSETFROM:-0400
TZOFFSETTO:-0500
TZNAME:EST
DTSTART:20271107T060000
END:STANDARD
END:VTIMEZONE
BEGIN:VEVENT
DTSTART;TZID=America/Kentucky/Louisville:20260508T130000
DTEND;TZID=America/Kentucky/Louisville:20260508T140000
DTSTAMP:20260424T124518
CREATED:20260424T122728Z
LAST-MODIFIED:20260424T122728Z
UID:16246-1778245200-1778248800@faceitabuse.org
SUMMARY:Blueprint Webinar - House Bill 6: A Deep Dive for Childcare Providers
DESCRIPTION:Join this webinar on May 8 from 1:00 – 2:00 pm EST for a deep dive into House Bill 6 and what that means for childcare providers and the impact on Kentucky kids. The conversation will be facilitated by Sarah Vanover\, Kentucky Youth Advocates\, Liz McQuillen\, Metro United Way\, and Mandy Marler\, Baldwin Consulting. \n1 hour child care training credit available for those who attend the training. Register here. \nDate: Friday\, May 8\, 2026\nTime: 1:00 PM EST\nLocation: Virtual \n 
URL:https://faceitabuse.org/event/blueprint-webinar-house-bill-6-a-deep-dive-for-childcare-providers/
END:VEVENT
END:VCALENDAR