BEGIN:VCALENDAR
VERSION:2.0
PRODID:-//Face It - ECPv6.15.18//NONSGML v1.0//EN
CALSCALE:GREGORIAN
METHOD:PUBLISH
X-ORIGINAL-URL:https://faceitabuse.org
X-WR-CALDESC:Events for Face It
REFRESH-INTERVAL;VALUE=DURATION:PT1H
X-Robots-Tag:noindex
X-PUBLISHED-TTL:PT1H
BEGIN:VTIMEZONE
TZID:America/Chicago
BEGIN:DAYLIGHT
TZOFFSETFROM:-0600
TZOFFSETTO:-0500
TZNAME:CDT
DTSTART:20250309T080000
END:DAYLIGHT
BEGIN:STANDARD
TZOFFSETFROM:-0500
TZOFFSETTO:-0600
TZNAME:CST
DTSTART:20251102T070000
END:STANDARD
BEGIN:DAYLIGHT
TZOFFSETFROM:-0600
TZOFFSETTO:-0500
TZNAME:CDT
DTSTART:20260308T080000
END:DAYLIGHT
BEGIN:STANDARD
TZOFFSETFROM:-0500
TZOFFSETTO:-0600
TZNAME:CST
DTSTART:20261101T070000
END:STANDARD
BEGIN:DAYLIGHT
TZOFFSETFROM:-0600
TZOFFSETTO:-0500
TZNAME:CDT
DTSTART:20270314T080000
END:DAYLIGHT
BEGIN:STANDARD
TZOFFSETFROM:-0500
TZOFFSETTO:-0600
TZNAME:CST
DTSTART:20271107T070000
END:STANDARD
END:VTIMEZONE
BEGIN:VEVENT
DTSTART;TZID=America/Chicago:20260330T110000
DTEND;TZID=America/Chicago:20260330T130000
DTSTAMP:20260423T121012
CREATED:20260227T180550Z
LAST-MODIFIED:20260227T180550Z
UID:16087-1774868400-1774875600@faceitabuse.org
SUMMARY:CASA of the Heartland - Pinwheels for Prevention: Breckinridge County
DESCRIPTION:Please join CASA of the Heartland for Pinwheels for Prevention as we plant pinwheels to raise awareness for child abuse victims in our community. \nPinwheels for Prevention is a national campaign\, and the pinwheels symbolize childlike whimsy\, lightheartedness\, and our vision for a world where all children grow up happy\, healthy\, and prepared to succeed. By planting pinwheels\, we aim to raise awareness about child abuse victims in our community and advocate for a brighter future for all children. Learn more. \nMonday\, March 30th from 11:00am – 1:00pm CST\nFirst State Bank\, 1017 Old State Road 60\, Hardinsburg\, KY\nContact casastaff@casaheartland.org with questions.
URL:https://faceitabuse.org/event/casa-of-the-heartland-pinwheels-for-prevention-breckinridge-county/
CATEGORIES:Child Abuse Prevention Month
END:VEVENT
END:VCALENDAR