BEGIN:VCALENDAR
VERSION:2.0
PRODID:-//Face It - ECPv6.15.18//NONSGML v1.0//EN
CALSCALE:GREGORIAN
METHOD:PUBLISH
X-ORIGINAL-URL:https://faceitabuse.org
X-WR-CALDESC:Events for Face It
REFRESH-INTERVAL;VALUE=DURATION:PT1H
X-Robots-Tag:noindex
X-PUBLISHED-TTL:PT1H
BEGIN:VTIMEZONE
TZID:America/Chicago
BEGIN:DAYLIGHT
TZOFFSETFROM:-0600
TZOFFSETTO:-0500
TZNAME:CDT
DTSTART:20250309T080000
END:DAYLIGHT
BEGIN:STANDARD
TZOFFSETFROM:-0500
TZOFFSETTO:-0600
TZNAME:CST
DTSTART:20251102T070000
END:STANDARD
BEGIN:DAYLIGHT
TZOFFSETFROM:-0600
TZOFFSETTO:-0500
TZNAME:CDT
DTSTART:20260308T080000
END:DAYLIGHT
BEGIN:STANDARD
TZOFFSETFROM:-0500
TZOFFSETTO:-0600
TZNAME:CST
DTSTART:20261101T070000
END:STANDARD
BEGIN:DAYLIGHT
TZOFFSETFROM:-0600
TZOFFSETTO:-0500
TZNAME:CDT
DTSTART:20270314T080000
END:DAYLIGHT
BEGIN:STANDARD
TZOFFSETFROM:-0500
TZOFFSETTO:-0600
TZNAME:CST
DTSTART:20271107T070000
END:STANDARD
END:VTIMEZONE
BEGIN:VTIMEZONE
TZID:America/Kentucky/Louisville
BEGIN:DAYLIGHT
TZOFFSETFROM:-0500
TZOFFSETTO:-0400
TZNAME:EDT
DTSTART:20250309T070000
END:DAYLIGHT
BEGIN:STANDARD
TZOFFSETFROM:-0400
TZOFFSETTO:-0500
TZNAME:EST
DTSTART:20251102T060000
END:STANDARD
BEGIN:DAYLIGHT
TZOFFSETFROM:-0500
TZOFFSETTO:-0400
TZNAME:EDT
DTSTART:20260308T070000
END:DAYLIGHT
BEGIN:STANDARD
TZOFFSETFROM:-0400
TZOFFSETTO:-0500
TZNAME:EST
DTSTART:20261101T060000
END:STANDARD
BEGIN:DAYLIGHT
TZOFFSETFROM:-0500
TZOFFSETTO:-0400
TZNAME:EDT
DTSTART:20270314T070000
END:DAYLIGHT
BEGIN:STANDARD
TZOFFSETFROM:-0400
TZOFFSETTO:-0500
TZNAME:EST
DTSTART:20271107T060000
END:STANDARD
END:VTIMEZONE
BEGIN:VEVENT
DTSTART;TZID=America/Chicago:20260402T110000
DTEND;TZID=America/Chicago:20260402T130000
DTSTAMP:20260423T121114
CREATED:20260227T181213Z
LAST-MODIFIED:20260227T181213Z
UID:16094-1775127600-1775134800@faceitabuse.org
SUMMARY:CASA of the Heartland - Pinwheels for Prevention: Grayson County
DESCRIPTION:Please join CASA of the Heartland for Pinwheels for Prevention as we plant pinwheels to raise awareness for child abuse victims in our community. \nPinwheels for Prevention is a national campaign\, and the pinwheels symbolize childlike whimsy\, lightheartedness\, and our vision for a world where all children grow up happy\, healthy\, and prepared to succeed. By planting pinwheels\, we aim to raise awareness about child abuse victims in our community and advocate for a brighter future for all children. Learn more. \nThursday\, April 2nd from 10:00am – 12:00pm CST\n425 South Main Street\, Leitchfield\, KY\nContact casastaff@casaheartland.org with questions.
URL:https://faceitabuse.org/event/casa-of-the-heartland-pinwheels-for-prevention-grayson-county/
CATEGORIES:Child Abuse Prevention Month
END:VEVENT
BEGIN:VEVENT
DTSTART;TZID=America/Kentucky/Louisville:20260402T110000
DTEND;TZID=America/Kentucky/Louisville:20260402T140000
DTSTAMP:20260423T121114
CREATED:20260325T201132Z
LAST-MODIFIED:20260325T201132Z
UID:16150-1775127600-1775138400@faceitabuse.org
SUMMARY:Family & Children's Place - Rally to End Child Abuse
DESCRIPTION:Join Family & Children’s Place for a powerful Day of Action as we come together to raise awareness for Child Abuse Prevention Month and stand in support of children and families in our community. The day will begin with a rally\, bringing together advocates\, partners\, and community members to amplify the message that every child deserves to grow up safe\, supported\, and loved. Immediately following the rally\, Family & Children’s Place invites you to stay for an open house from 12:00–2:00 PM\, featuring guided tours of their space and opportunities to learn more about their programs and impact. Whether you’re a longtime supporter or new to their mission\, this Day of Action is a meaningful way to show your commitment\, connect with others\, and take a stand for children. Your presence makes a difference. \nDate: Thursday\, April 2\nTime: 11am\nLocation: 525 Zane Street\, Louisville\, KY\, USA
URL:https://faceitabuse.org/event/family-childrens-place-rally-to-end-child-abuse-4/
CATEGORIES:Child Abuse Prevention Month
END:VEVENT
BEGIN:VEVENT
DTSTART;TZID=America/Chicago:20260402T170000
DTEND;TZID=America/Chicago:20260402T193000
DTSTAMP:20260423T121114
CREATED:20260227T181828Z
LAST-MODIFIED:20260227T181844Z
UID:16098-1775149200-1775158200@faceitabuse.org
SUMMARY:WKU LifeSkills Center for Child Welfare Education and Research (LCCWEAR) - 2026 Child Welfare Expo
DESCRIPTION:Each April\, during National Child Abuse Prevention Month\, the LifeSkills Center for Child Welfare Education and Research (LCCWEAR) host the Child Welfare Expo. This is an opportunity to advance child welfare in Kentucky! We create a platform where WKU students\, community partners\, and child serving professionals can connect\, network\, and learn about local and statewide child welfare resources and also find jobs and build partnerships. We have a small program – kicked off by our Keynote Speaker – where we will honor and recognize child welfare serving professionals\, present our annual awards\, and pay respect to those who do and support the excellent child welfare work in the Commonwealth. Learn more and register. \nFor more information or questions contact\, WKU LCCWEAR at childwelfare@wku.edu. \nApril 2\, 2026 from 5-7:30pm CST\n2355 Nashville Road\, Bowling Green\, KY
URL:https://faceitabuse.org/event/wku-lifeskills-center-for-child-welfare-education-and-research-lccwear-2026-child-welfare-expo/
CATEGORIES:Child Abuse Prevention Month
END:VEVENT
END:VCALENDAR