BEGIN:VCALENDAR
VERSION:2.0
PRODID:-//Face It - ECPv6.15.18//NONSGML v1.0//EN
CALSCALE:GREGORIAN
METHOD:PUBLISH
X-WR-CALNAME:Face It
X-ORIGINAL-URL:https://faceitabuse.org
X-WR-CALDESC:Events for Face It
REFRESH-INTERVAL;VALUE=DURATION:PT1H
X-Robots-Tag:noindex
X-PUBLISHED-TTL:PT1H
BEGIN:VTIMEZONE
TZID:America/Kentucky/Louisville
BEGIN:DAYLIGHT
TZOFFSETFROM:-0500
TZOFFSETTO:-0400
TZNAME:EDT
DTSTART:20250309T070000
END:DAYLIGHT
BEGIN:STANDARD
TZOFFSETFROM:-0400
TZOFFSETTO:-0500
TZNAME:EST
DTSTART:20251102T060000
END:STANDARD
BEGIN:DAYLIGHT
TZOFFSETFROM:-0500
TZOFFSETTO:-0400
TZNAME:EDT
DTSTART:20260308T070000
END:DAYLIGHT
BEGIN:STANDARD
TZOFFSETFROM:-0400
TZOFFSETTO:-0500
TZNAME:EST
DTSTART:20261101T060000
END:STANDARD
BEGIN:DAYLIGHT
TZOFFSETFROM:-0500
TZOFFSETTO:-0400
TZNAME:EDT
DTSTART:20270314T070000
END:DAYLIGHT
BEGIN:STANDARD
TZOFFSETFROM:-0400
TZOFFSETTO:-0500
TZNAME:EST
DTSTART:20271107T060000
END:STANDARD
END:VTIMEZONE
BEGIN:VEVENT
DTSTART;TZID=America/Kentucky/Louisville:20260420T120000
DTEND;TZID=America/Kentucky/Louisville:20260420T130000
DTSTAMP:20260423T120710
CREATED:20260327T205531Z
LAST-MODIFIED:20260407T152942Z
UID:16174-1776686400-1776690000@faceitabuse.org
SUMMARY:Face It Lunch and Learn: Parenting\, Brain Science\, and Shaping Your Child’s Behavior with Dr. Nancy Weaver
DESCRIPTION:The Kosair for Kids Face It Movement invites you to join us for a Lunch & Learn with Dr. Nancy Weaver\, founder of Support Over Silence\, LLC. Dr. Weaver will be sharing useful\, evidence-based strategies for how parents and caregivers can change their way of thinking (and behaving!) to foster healthy child development. \nDate: Monday April 20\, 2026\nTime: 12PM EST\nLocation: Virtual \nThis is a great opportunity to learn more about:\n— why old-school punishments fall short and the brain science behind it\n— the importance and impact of co-regulation on parents and kids\n— how parents can approach misbehavior with curiosity \nSocial Work CEUs available. REGISTER.
URL:https://faceitabuse.org/event/lunch-and-learn-parenting-brain-science-and-shaping-your-childs-behavior-with-dr-nancy-weaver/
CATEGORIES:Child Abuse Prevention Month
END:VEVENT
END:VCALENDAR