BEGIN:VCALENDAR
VERSION:2.0
PRODID:-//Face It - ECPv6.15.18//NONSGML v1.0//EN
CALSCALE:GREGORIAN
METHOD:PUBLISH
X-WR-CALNAME:Face It
X-ORIGINAL-URL:https://faceitabuse.org
X-WR-CALDESC:Events for Face It
REFRESH-INTERVAL;VALUE=DURATION:PT1H
X-Robots-Tag:noindex
X-PUBLISHED-TTL:PT1H
BEGIN:VTIMEZONE
TZID:America/Kentucky/Louisville
BEGIN:DAYLIGHT
TZOFFSETFROM:-0500
TZOFFSETTO:-0400
TZNAME:EDT
DTSTART:20250309T070000
END:DAYLIGHT
BEGIN:STANDARD
TZOFFSETFROM:-0400
TZOFFSETTO:-0500
TZNAME:EST
DTSTART:20251102T060000
END:STANDARD
BEGIN:DAYLIGHT
TZOFFSETFROM:-0500
TZOFFSETTO:-0400
TZNAME:EDT
DTSTART:20260308T070000
END:DAYLIGHT
BEGIN:STANDARD
TZOFFSETFROM:-0400
TZOFFSETTO:-0500
TZNAME:EST
DTSTART:20261101T060000
END:STANDARD
BEGIN:DAYLIGHT
TZOFFSETFROM:-0500
TZOFFSETTO:-0400
TZNAME:EDT
DTSTART:20270314T070000
END:DAYLIGHT
BEGIN:STANDARD
TZOFFSETFROM:-0400
TZOFFSETTO:-0500
TZNAME:EST
DTSTART:20271107T060000
END:STANDARD
END:VTIMEZONE
BEGIN:VEVENT
DTSTART;TZID=America/Kentucky/Louisville:20260425T100000
DTEND;TZID=America/Kentucky/Louisville:20260427T113000
DTSTAMP:20260423T120718
CREATED:20260325T202019Z
LAST-MODIFIED:20260325T202019Z
UID:16156-1777111200-1777289400@faceitabuse.org
SUMMARY:Logan County Health Coalition\, FRYSC\, Bright Coalition - Community Baby Shower
DESCRIPTION:The Community Baby Shower is designed for expecting parents and parents up to 6 months post partum to engage and connect to community partners and resources. With 70 vendors\, parents receive practical\, evidence-based information on child development\, safe sleep practices\, home and car seat safety\, infant nutrition\, breastfeeding support\, maternal mental health\, and early brain development. Families also have opportunities to connect directly with pediatricians and healthcare professionals to ask questions\, discuss developmental milestones\, and learn when and how to seek care. REGISTER. \n  \nDate: Saturday\, April 25\nTime: 10-11:30AM\nLocation: Logan County Extension Services\, John Paul Rd\, Russellville\, KY
URL:https://faceitabuse.org/event/logan-county-health-coalition-frysc-bright-coalition-community-baby-shower/
CATEGORIES:Child Abuse Prevention Month
END:VEVENT
END:VCALENDAR