BEGIN:VCALENDAR
VERSION:2.0
PRODID:-//Face It - ECPv6.15.18//NONSGML v1.0//EN
CALSCALE:GREGORIAN
METHOD:PUBLISH
X-WR-CALNAME:Face It
X-ORIGINAL-URL:https://faceitabuse.org
X-WR-CALDESC:Events for Face It
REFRESH-INTERVAL;VALUE=DURATION:PT1H
X-Robots-Tag:noindex
X-PUBLISHED-TTL:PT1H
BEGIN:VTIMEZONE
TZID:America/Kentucky/Louisville
BEGIN:DAYLIGHT
TZOFFSETFROM:-0500
TZOFFSETTO:-0400
TZNAME:EDT
DTSTART:20210314T070000
END:DAYLIGHT
BEGIN:STANDARD
TZOFFSETFROM:-0400
TZOFFSETTO:-0500
TZNAME:EST
DTSTART:20211107T060000
END:STANDARD
BEGIN:DAYLIGHT
TZOFFSETFROM:-0500
TZOFFSETTO:-0400
TZNAME:EDT
DTSTART:20220313T070000
END:DAYLIGHT
BEGIN:STANDARD
TZOFFSETFROM:-0400
TZOFFSETTO:-0500
TZNAME:EST
DTSTART:20221106T060000
END:STANDARD
BEGIN:DAYLIGHT
TZOFFSETFROM:-0500
TZOFFSETTO:-0400
TZNAME:EDT
DTSTART:20230312T070000
END:DAYLIGHT
BEGIN:STANDARD
TZOFFSETFROM:-0400
TZOFFSETTO:-0500
TZNAME:EST
DTSTART:20231105T060000
END:STANDARD
BEGIN:DAYLIGHT
TZOFFSETFROM:-0500
TZOFFSETTO:-0400
TZNAME:EDT
DTSTART:20240310T070000
END:DAYLIGHT
BEGIN:STANDARD
TZOFFSETFROM:-0400
TZOFFSETTO:-0500
TZNAME:EST
DTSTART:20241103T060000
END:STANDARD
END:VTIMEZONE
BEGIN:VEVENT
DTSTART;TZID=America/Kentucky/Louisville:20230327T100000
DTEND;TZID=America/Kentucky/Louisville:20230327T120000
DTSTAMP:20260425T072335
CREATED:20230301T160440Z
LAST-MODIFIED:20230314T232309Z
UID:7776-1679911200-1679918400@faceitabuse.org
SUMMARY:Prevent Child Abuse Kentucky's Child Abuse Prevention Month Kickoff at the Capitol
DESCRIPTION:Join PCAK for the start of Child Abuse Prevention Month 2023. Not only will this kick-off the month of April\, but will officially launch the Lean On Me Kentucky Campaign and plant pinwheels outside the Capitol building. \nThis Campaign is movement geared towards elevating the importance of supporting ALL Kentucky families through positive connections and protective factors prior to abuse or neglect every occurring. \nContact PCAK\, pcaky@pcaky.org for more information about Child Abuse Prevention Month.
URL:https://faceitabuse.org/event/prevent-child-abuse-kentuckys-child-abuse-prevention-month-kickoff-at-the-capitol/
CATEGORIES:Child Abuse Prevention Month
END:VEVENT
BEGIN:VEVENT
DTSTART;TZID=America/Kentucky/Louisville:20230324T170000
DTEND;TZID=America/Kentucky/Louisville:20230325T110000
DTSTAMP:20260425T072335
CREATED:20230112T163042Z
LAST-MODIFIED:20230314T230506Z
UID:7611-1679677200-1679742000@faceitabuse.org
SUMMARY:Family Enrichment Center's Run & Walk for Children!
DESCRIPTION:The Run & Walk for Children is FEC’s longest-running fundraising event and recently celebrated its 25th anniversary! This event features a half marathon\, 5K run\, 5K fun walk and a children’s 100 yard dash with proceeds directly benefiting FEC’s child abuse prevention programs. \nParticipants receive a finishers medal\, race shirt\, and an invitation to the pre-race Pasta Party held the Friday evening before the race. \nGroups of 5 or more receive a 10% discount per person. Ask about a prepaid option or discount code here. \nRegister online or download our printable form today on FEC website!
URL:https://faceitabuse.org/event/run-walk-for-children/
CATEGORIES:Child Abuse Prevention Month
END:VEVENT
BEGIN:VEVENT
DTSTART;TZID=America/Kentucky/Louisville:20230324T113000
DTEND;TZID=America/Kentucky/Louisville:20230324T130000
DTSTAMP:20260425T072335
CREATED:20230112T161914Z
LAST-MODIFIED:20230314T225703Z
UID:7608-1679657400-1679662800@faceitabuse.org
SUMMARY:Family Nurturing Center's Blue Ribbon Ceremony
DESCRIPTION:Blue Ribbon Ceremony  \nJoin Family Nurturing Center for their annual Blue Ribbon Ceremony to kick off April as Child Abuse Prevention Month! \nHosted by Tom Gill Chevrolet\, guests will hear inspiring words from featured speaker and Family Nurturing Center board member Curtis Clemons\, proclamations by government leaders\, and tips on ways everyone can protect children and promote healthy families. The winner of the Children’s Art Contest will also be announced. The winner’s artwork will be displayed inside of Tank buses throughout the month of April. A light lunch and refreshments will be served. \nFollowing the event\, guests are invited to tie blue ribbons on the fence surrounding the dealership to represent children impacted by abuse and neglect. The ribbons will remain on the fence throughout the month of April.
URL:https://faceitabuse.org/event/blue-ribbon-ceremony-2/
CATEGORIES:Child Abuse Prevention Month
END:VEVENT
BEGIN:VEVENT
DTSTART;TZID=America/Kentucky/Louisville:20230323T173000
DTEND;TZID=America/Kentucky/Louisville:20230323T200000
DTSTAMP:20260425T072335
CREATED:20230203T183709Z
LAST-MODIFIED:20230314T230615Z
UID:7718-1679592600-1679601600@faceitabuse.org
SUMMARY:Kosair For Kids Hats On For Healing
DESCRIPTION:Enjoy cocktails and hors d’oeuvres as you and your friends bid on 200+ new and gently used Derby hats and fascinators\, all while helping children in need. Proceeds benefit the Child Abuse Prevention Fund at Kosair For Kids. \n\nDetails\nEvent: Hats On For Healing\nDate: Thursday\, March 23\nTime: 5:30 – 8:00 p.m.\nLocation: The Olmsted (3701 Frankfort Avenue\, 40207)\nParking: Free\nTickets: $40 per ticket \nClick Here to Purchase Tickets
URL:https://faceitabuse.org/event/kosair-charities-hats-on-for-healing/
CATEGORIES:Child Abuse Prevention Month
END:VEVENT
BEGIN:VEVENT
DTSTART;TZID=America/Kentucky/Louisville:20230322T100000
DTEND;TZID=America/Kentucky/Louisville:20230322T113000
DTSTAMP:20260425T072335
CREATED:20230315T185421Z
LAST-MODIFIED:20230315T185421Z
UID:7903-1679479200-1679484600@faceitabuse.org
SUMMARY:Prevent Child Abuse Kentucky: Data and Messaging Training
DESCRIPTION:The way we say things and how we say them matters\, especially when using data. You’ve heard it said\, “Kentucky ranks #1 in maltreatment\,” but what does that really mean?  As part of the upcoming launch of Lean On Me Kentucky\, we are urging everyone to unite in evidence-informed messaging grounded in social norms science. Let’s unite in how we message prevention and data to others\, including the media! Our collective voices are powerful\, and we can use data to help propel our prevention message. \nThis training will provide a sneak peek of the upcoming Lean On Me Kentucky campaign\, highlighting the importance of supporting families in our work to prevent maltreatment from ever occurring. \nThursday\, March 22\, 2023\, 10:00 a.m. – 11:30 a.m. EDT via ZOOM: Register here.
URL:https://faceitabuse.org/event/prevent-child-abuse-kentucky-data-and-messaging-training/
CATEGORIES:Child Abuse Prevention Month
END:VEVENT
BEGIN:VEVENT
DTSTART;TZID=America/Kentucky/Louisville:20220516T163000
DTEND;TZID=America/Kentucky/Louisville:20220516T183000
DTSTAMP:20260425T072335
CREATED:20220426T154143Z
LAST-MODIFIED:20220426T154339Z
UID:7069-1652718600-1652725800@faceitabuse.org
SUMMARY:Positive Parenting Event: Watch Me Grow-  A Look at Child Development
DESCRIPTION:This in-person event will be tailored to promote parent social connections and knowledge of child development. Parents will have the opportunity to meet other parents with children similar in age that live in the same area. Parents and caregivers will also be encouraged to openly discuss parenting challenges and given child development materials to better understand how to meet their child(ren)’s needs.  \nFor more information visit Family Enrichment Center’s website or contact \nSamantha Berry\, Samantha@familyenrichmentcenter.com  – 270-781-6714
URL:https://faceitabuse.org/event/positive-parenting-event-watch-me-grow-a-look-at-child-development/
LOCATION:Chaney’s Dairy Barn\, 9191 Nashville Road\, Bowling Green\, Kentucky\, 42101
CATEGORIES:Child Abuse Prevention Month
END:VEVENT
BEGIN:VEVENT
DTSTART;TZID=America/Kentucky/Louisville:20220429T190000
DTEND;TZID=America/Kentucky/Louisville:20220429T230000
DTSTAMP:20260425T072335
CREATED:20220309T192318Z
LAST-MODIFIED:20220309T192318Z
UID:6859-1651258800-1651273200@faceitabuse.org
SUMMARY:Prom for a Purpose
DESCRIPTION:When: \nFriday\, April 29th\, 2022 from 7:00pm – 11:00 pm EST \nWho:\nAnyone who wants a second chance at Prom! \nWhat to Expect:\n· Walk the Blue Carpet upon arrival! \n· Dance the night away with DJ Mark McFadden! \n· Enjoy heavy appetizers\, 2-hour open bar & desserts! \n· Photo booth fun with your friends! \n· Bid on fabulous silent auction packages including trips & experiences! \n· Witness the crowning of the very first Family Nurturing Center Prom Royals! \n· Supporting a great cause to help end the cycle of child abuse! \nWhy:\nWe must join together as a community to end child abuse. All proceeds support counseling\, parenting\, holistic and wellness services\, therapeutic visitation\, and education and training services for children and families. Your participation could even help us reduce our wait list of 70 kids while allowing us to continue to provide our services at no charge to participants. We are truly grateful for your support! \nFor more information and to register visit Family & Nurturing Center’s website here.
URL:https://faceitabuse.org/event/prom-for-a-purpose/
CATEGORIES:Child Abuse Prevention Month
END:VEVENT
BEGIN:VEVENT
DTSTART;TZID=America/Kentucky/Louisville:20220429T080000
DTEND;TZID=America/Kentucky/Louisville:20220429T093000
DTSTAMP:20260425T072335
CREATED:20220309T184233Z
LAST-MODIFIED:20220309T184937Z
UID:6852-1651219200-1651224600@faceitabuse.org
SUMMARY:ECHO's Annual Pancakes & Pinwheels Awards Breakfast
DESCRIPTION:Register here.
URL:https://faceitabuse.org/event/echos-annual-pancakes-pinwheels-awards-breakfast/
CATEGORIES:Child Abuse Prevention Month
END:VEVENT
BEGIN:VEVENT
DTSTART;TZID=America/Kentucky/Louisville:20220428T120000
DTEND;TZID=America/Kentucky/Louisville:20220428T130000
DTSTAMP:20260425T072335
CREATED:20220311T164557Z
LAST-MODIFIED:20220317T183050Z
UID:6876-1651147200-1651150800@faceitabuse.org
SUMMARY:Survivor's Healing Journey
DESCRIPTION:Thursday\, April 28 at 12:00 PM EST: Survivor’s Healing Journey \nJoin Face It and Family & Children’s Place as we hold space for survivors of child abuse during Child Abuse Prevention Month. We know that healing looks different for everyone and the journey is not necessarily linear. We will hear from survivor’s about their healing journey and ways to both individually and as a community support survivors of abuse. \nDetails and registration here. \n 
URL:https://faceitabuse.org/event/survivors-healing-journey/
CATEGORIES:Child Abuse Prevention Month
END:VEVENT
BEGIN:VEVENT
DTSTART;TZID=America/Kentucky/Louisville:20220427T173000
DTEND;TZID=America/Kentucky/Louisville:20220427T193000
DTSTAMP:20260425T072335
CREATED:20220414T130039Z
LAST-MODIFIED:20220426T175213Z
UID:7025-1651080600-1651087800@faceitabuse.org
SUMMARY:Building Healthy Families - Positive Parenting Event
DESCRIPTION:FAMILY NURTURING CENTER IN PARTNERSHIP WITH THE FACE IT MOVEMENT PRESENTS: \nBuilding Healthy Families \nBurlington Elementary School \nWednesday\, April 27th \n5:30-7:30 PM \n-Dinner will be served at the beginning of the evening.  \n-Caregiver topics will include: expectations\, family routines\, discipline and effective communication.  \n-Children will learn about the same topics in a separate group through play\, crafts and age appropriate activities.  \nPlease contact \nJennifer.hater@boone.kyschools.us or 859-334-4447 to register and for more information.
URL:https://faceitabuse.org/event/building-healthy-families-positive-parenting-event/
CATEGORIES:Child Abuse Prevention Month
END:VEVENT
BEGIN:VEVENT
DTSTART;TZID=America/Kentucky/Louisville:20220425T163000
DTEND;TZID=America/Kentucky/Louisville:20220425T180000
DTSTAMP:20260425T072335
CREATED:20220415T142509Z
LAST-MODIFIED:20220426T175329Z
UID:7030-1650904200-1650909600@faceitabuse.org
SUMMARY:It Takes A Village
DESCRIPTION:We are so excited about this collaboration with Smoketown Wellness Center\, 502 Fathers\, and Growbabygrow: Creative Dance for Happy Families!\n\n\n–\n We’ll be discussing child development\, safety and fun ways to incorporate play and dance into your parenting.\n\n\nThis class is open to any parent of a child age 0-3. Refreshments will be provided and there will be door prizes for participants.\n–\n\n\nWe look forward to seeing you on \nMonday\, April 25th 4:30pm – 6pm\n760 S Hancock St B100\, Louisville\, KY 40203\n–\n Please call 502-242-7458 with any questions
URL:https://faceitabuse.org/event/it-takes-a-village/
CATEGORIES:Child Abuse Prevention Month
END:VEVENT
BEGIN:VEVENT
DTSTART;TZID=America/Kentucky/Louisville:20220414T163000
DTEND;TZID=America/Kentucky/Louisville:20220414T183000
DTSTAMP:20260425T072335
CREATED:20220411T190735Z
LAST-MODIFIED:20220426T175354Z
UID:7008-1649953800-1649961000@faceitabuse.org
SUMMARY:Child Abuse Prevention Community Resource Fair - The Sunshine Center + Franklin County Health Department
DESCRIPTION:Please join The Sunshine Center and Community Partners for a Child Abuse Prevention Community Resource Fair! \nThursday\, April 14\, 4:30-6:30 at Juniper Hills Park\, Jack Williams Pavillion  \nThere will be lots of agencies\, information\, resources\, fun activities for kids and families\, snacks\, and Taylor Belle Ice Cream! \n         \n 
URL:https://faceitabuse.org/event/child-abuse-prevention-community-resource-fair-the-sunshine-center-franklin-county-health-department/
LOCATION:Juniper Hills Park\, Frankfort\, KY 40601
CATEGORIES:Child Abuse Prevention Month
END:VEVENT
BEGIN:VEVENT
DTSTART;TZID=America/Kentucky/Louisville:20220414T113000
DTEND;TZID=America/Kentucky/Louisville:20220414T133000
DTSTAMP:20260425T072335
CREATED:20220217T154748Z
LAST-MODIFIED:20220302T200911Z
UID:6790-1649935800-1649943000@faceitabuse.org
SUMMARY:Child Abuse Prevention Luncheon
DESCRIPTION:Kentucky is #5 in the NATION in incidents of child abuse and neglect\, nearly double the national average. Kosair Charities\, in partnership with the Face It® Movement\, directly addresses the unacceptable incidences of child abuse and neglect in Kentucky with the promotion of best practices in child abuse prevention and intervention\, engaging the community\, and advocating for effective policies to improve the child welfare system. Become a sponsor for the Child Abuse Prevention Luncheon featuring a special keynote speaker and other distinguished guests. Learn more at Kosair.org.
URL:https://faceitabuse.org/event/child-abuse-prevention-luncheon/
CATEGORIES:Child Abuse Prevention Month
END:VEVENT
BEGIN:VEVENT
DTSTART;TZID=America/Kentucky/Louisville:20220412T100000
DTEND;TZID=America/Kentucky/Louisville:20220412T110000
DTSTAMP:20260425T072335
CREATED:20220309T173905Z
LAST-MODIFIED:20220309T174417Z
UID:6846-1649757600-1649761200@faceitabuse.org
SUMMARY:Courageous Conversations Panel Discussion
DESCRIPTION: The Face It Movement is hosting a panel conversation about reporting child abuse and neglect in Kentucky. Relationship building with caregivers is an effective tool for crisis prevention\, but how and when do mandated reporters talk to families first? The discussion will focus on the components of reporting: when to engage\, how to help navigate supports\, and when reporting may still be necessary if you have concerns about child safety. \nRegister to receive the Zoom link and reminders: https://forms.gle/7igw8MGcHwmJDm4n6
URL:https://faceitabuse.org/event/courageous-conversations-panel-discussion/
CATEGORIES:Child Abuse Prevention Month
END:VEVENT
BEGIN:VEVENT
DTSTART;TZID=America/Kentucky/Louisville:20220411T180000
DTEND;TZID=America/Kentucky/Louisville:20220411T200000
DTSTAMP:20260425T072335
CREATED:20220309T191743Z
LAST-MODIFIED:20220309T191743Z
UID:6856-1649700000-1649707200@faceitabuse.org
SUMMARY:Strengthening Families: Social and Emotional Competence of Children
DESCRIPTION:This training will help you understand how to support children in learning how to positively interact with others\, self-regulating their behaviors\, and effectively communicating their feelings – all of which have positive impacts on their relationships with family members\, other adults\, and peers. Challenging behaviors or delayed development can create extra stress for families\, so early identification and support for both parents and the child are critical to keep children on track. It’s never easy to start these conversations\, and it can be hard to find the right resources. Join 4-C to discover some talking points\, local resources\, and more! By the end of the session\, you will feel more confident in understanding social-emotional development\, and in your ability to refer families to needed resources as challenges arise. \nThis workshop is free thanks to the generous sponsorship by the Kosair Charities Face It Movement. \nNotice: This is an online class.  Please make sure you include a valid email address when registering and that you have internet and email access at the time of the training. This training will be conducted via Zoom\, and you will be required to participate via video and audio through a computer\, phone\, or tablet. \nLevel 3   CDA 3\, 4 CC 6  Audience-All \n2 Credit Hours \nRegister HERE.
URL:https://faceitabuse.org/event/strengthening-families-social-and-emotional-competence-of-children/
CATEGORIES:Child Abuse Prevention Month
END:VEVENT
BEGIN:VEVENT
DTSTART;TZID=America/Kentucky/Louisville:20220411T100000
DTEND;TZID=America/Kentucky/Louisville:20220411T110000
DTSTAMP:20260425T072335
CREATED:20220309T184834Z
LAST-MODIFIED:20220324T194357Z
UID:6854-1649671200-1649674800@faceitabuse.org
SUMMARY:PINWHEEL PLANTING AT THE CAPITOL
DESCRIPTION:Pinwheels for Prevention is a national campaign used as a reminder of the uplifting and great childhood all children deserve. The blue and silver pinwheels are popping up all across Kentucky’s to promote our Pinwheels for Prevention campaign – to educate communities on child abuse and neglect prevention. \nJoin our partners\, Prevent Child Abuse Kentucky for their annual Pinwheel Planting at the Kentucky State Capitol on Apr 11 at 10:00 AM EST \nFor more information visit: https://pcaky.org/about/capm/
URL:https://faceitabuse.org/event/pinwheels-for-prevention-at-the-capitol/
CATEGORIES:Child Abuse Prevention Month
END:VEVENT
BEGIN:VEVENT
DTSTART;TZID=America/Kentucky/Louisville:20220401T080000
DTEND;TZID=America/Kentucky/Louisville:20220401T153000
DTSTAMP:20260425T072335
CREATED:20220309T194042Z
LAST-MODIFIED:20220309T194042Z
UID:6861-1648800000-1648827000@faceitabuse.org
SUMMARY:Stand Up for a Brighter Tomorrow
DESCRIPTION:Location: Mountain Arts Center \nJoin us for the 21st Annual Stand Up for a Brighter Tomorrow Conference in Prestonsburg\, Kentucky on April 1\, 2022! \nLocation: Mountain Arts Center\, 50 Hal Rogers Drive\, Prestonsburg\, KY 41653 \nStand Up for a Brighter Tomorrow is an annual Behavioral Health Conference on the emotional well-being of children and adolescents. Stand Up benefits professionals\, parents and others interested in increasing their knowledge about sexual assault and/or interpersonal violence and emotional and/or behavioral disorders found in children.   \nClick here to register for the 21st Annual Stand Up for a Brighter Tomorrow Conference \n\nThere is no registration fee to attend the conference and there is no charge for continuing education credits.\nLunch will be provided.\nPlease notify Heather Greene or Renee Conn if you find you cannot attend after registration so that others can be registered after maximum capacity is reached.\n\nCEU credits are approved for this conference by the Kentucky Board of Social Work and are pending through the Kentucky Board of Examiners in Psychology\, Licensed Professional Board of Counselors\, and NAADAC. Attendees must attend an entire workshop and complete a written evaluation to receive CEUs. \n \n 
URL:https://faceitabuse.org/event/stand-up-for-a-brighter-tomorrow/
CATEGORIES:Child Abuse Prevention Month
END:VEVENT
BEGIN:VEVENT
DTSTART;VALUE=DATE:20220401
DTEND;VALUE=DATE:20220402
DTSTAMP:20260425T072336
CREATED:20220214T145657Z
LAST-MODIFIED:20220302T200851Z
UID:6775-1648771200-1648857599@faceitabuse.org
SUMMARY:Wear Blue Day!
DESCRIPTION:#WEARBLUEDAY4KYKIDS \nEVENT DETAILS\n\nPost your celebration of Wear Blue Day 2022 on social media to enter our Social Media Photo Contest! \nContest categories include: \n\nBest Adult (individual and group)\nBest Youth (individual and group)\nBest Family\n\nUse #Wearblue4KYKids to enter!
URL:https://faceitabuse.org/event/wear-blue-day/
CATEGORIES:Child Abuse Prevention Month
END:VEVENT
BEGIN:VEVENT
DTSTART;TZID=America/Kentucky/Louisville:20220331T100000
DTEND;TZID=America/Kentucky/Louisville:20220331T110000
DTSTAMP:20260425T072336
CREATED:20220209T173517Z
LAST-MODIFIED:20220302T200835Z
UID:6749-1648720800-1648724400@faceitabuse.org
SUMMARY:Family & Children's Place Rally to End Child Abuse
DESCRIPTION:Family & Children’s Place will kick off Child Abuse Prevention Month with a rally on Thursday\, March 31st. This is an opportunity to hear from officials and advocates addressing child abuse\, violence\, exploitation\, neglect\, and prevention\, intervention\, and restoration efforts for children and families in Louisville and Southern Indiana. Join us and show the community there is #NoExcuseforChildAbuse
URL:https://faceitabuse.org/event/family-childrens-place-rally-to-end-child-abuse-2/
LOCATION:Family & Children’s Place\, 525 Zane Street\, Louisville\, KY\, 40203
CATEGORIES:Child Abuse Prevention Month
END:VEVENT
BEGIN:VEVENT
DTSTART;TZID=America/Kentucky/Louisville:20220328T120000
DTEND;TZID=America/Kentucky/Louisville:20220328T130000
DTSTAMP:20260425T072336
CREATED:20220309T174343Z
LAST-MODIFIED:20220309T174845Z
UID:6848-1648468800-1648472400@faceitabuse.org
SUMMARY:Child Abuse Prevention Month Kickoff Event on FB Live
DESCRIPTION:Join Face It on Monday\, March 28th at 12pm on our Facebook Live to hear about our upcoming events and news surrounding child abuse prevention month! \nFollow us on Facebook! https://www.facebook.com/faceitabuse \nFind more ways to stay informed during child abuse prevention month here. \n  \n 
URL:https://faceitabuse.org/event/child-abuse-prevention-month-kickoff-event-on-fb-live/
CATEGORIES:Child Abuse Prevention Month
END:VEVENT
BEGIN:VEVENT
DTSTART;TZID=America/Kentucky/Louisville:20220326T100000
DTEND;TZID=America/Kentucky/Louisville:20220326T150000
DTSTAMP:20260425T072336
CREATED:20220203T203847Z
LAST-MODIFIED:20220309T172906Z
UID:6725-1648288800-1648306800@faceitabuse.org
SUMMARY:1st Annual Statewide Community Collaboration for Children Child Abuse Awareness Month kick off
DESCRIPTION:SAVE-THE-DATE  for the 1st Annual Statewide Community Collaboration for Children out of Western KY Child Abuse Awareness Month kick off event on March 26th in Frankfort.\n \n-Activities include a statewide t-shirt designing contest for middle school students across the state-the winner will be recognized at the event \n-A proclamation signing \n-A free family friendly color run followed by a carnival themed resource fair
URL:https://faceitabuse.org/event/1st-annual-statewide-community-collaboration-for-children-child-abuse-awareness-month-kick-off/
LOCATION:Western Hills High School\, 100 Doctors Drive\, Frankfort\, Kentucky\, 40601
CATEGORIES:Child Abuse Prevention Month
END:VEVENT
BEGIN:VEVENT
DTSTART;TZID=America/Kentucky/Louisville:20220325T113000
DTEND;TZID=America/Kentucky/Louisville:20220325T130000
DTSTAMP:20260425T072336
CREATED:20220223T192750Z
LAST-MODIFIED:20220309T191711Z
UID:6798-1648207800-1648213200@faceitabuse.org
SUMMARY:Family Nurturing Center's Blue Ribbon Ceremony
DESCRIPTION:Blue Ribbon Ceremony hosted by Tom Gill Chevrolet \nDate: March 25\, 2022 \nTime: 11:30 AM to 1 PM \nVenue: Tom Gill Chevrolet\, 7830 Commerce Drive\, Florence\, KY 41042 \nTheme: Everyday Advocate \nCost: Free and open to the public \n\nEvent Information: \nJoin us for our Face It partner for their annual Blue Ribbon Ceremony to kick off April as Child Abuse Prevention Month! \nHosted by Tom Gill Chevrolet\, guests will hear the impactful words of healing and hope\, proclamations by government leaders\, and tips on ways everyone can protect children from all forms of abuse and neglect. The winner of the Children’s Art Contest will also be announced. The winner’s artwork will be displayed on Tank throughout the month of April. A light lunch and refreshments will be served. \nFollowing the event\, attendees can participate in tying a blue ribbon on the white fence in front of the dealership to show support for child abuse awareness. The ribbons will remain there for the entire month of April! \nFor more information visit familynurture.org/event/blue-ribbon-ceremony-hosted-by-tom-gill-chevrolet/
URL:https://faceitabuse.org/event/family-nurturing-centers-blue-ribbon-ceremony-2/
CATEGORIES:Child Abuse Prevention Month
END:VEVENT
BEGIN:VEVENT
DTSTART;TZID=America/Kentucky/Louisville:20220325T110000
DTEND;TZID=America/Kentucky/Louisville:20220325T130000
DTSTAMP:20260425T072336
CREATED:20220315T124155Z
LAST-MODIFIED:20220315T124155Z
UID:6888-1648206000-1648213200@faceitabuse.org
SUMMARY:FREE Pediatric Abuse Head Trauma Training for Oral Health Professionals
DESCRIPTION:FREE Pediatric Abusive Head Trauma Prevention and Recognition Training for oral health professionals. Prior to the training KOHC will host their quarterly meeting – all are welcome. \nFREE CEUs are available for dentists and dental hygienists for the Coalition meeting and additional credits are available for the training. \nThis meeting and training will be a hybrid format with a limited number of in-person seats in Louisville\, KY and the remaining attendees can join virtually. \nRegister for the in-person meeting  here. \nRegister for the virtual training here. \nIf you have any questions please contact the Oral Health Coalition of Kentucky – info@kyoralhealthcoalition.org
URL:https://faceitabuse.org/event/free-pediatric-abuse-head-trauma-training-for-oral-health-professionals/
CATEGORIES:Child Abuse Prevention Month
END:VEVENT
BEGIN:VEVENT
DTSTART;TZID=America/Kentucky/Louisville:20220325T100000
DTEND;TZID=America/Kentucky/Louisville:20220325T110000
DTSTAMP:20260425T072336
CREATED:20220315T123517Z
LAST-MODIFIED:20220315T123517Z
UID:6887-1648202400-1648206000@faceitabuse.org
SUMMARY:Kentucky Oral Health Coalition March Meeting & FREE PAHT training!
DESCRIPTION:Register Today for the March Quarterly Meeting!\nKOHC’s first quarterly meeting of 2022 will include the following agenda items: \n\nKOHC 2022 Policy Priority Updates\nCOVID-19 Impact on Oral Health Panel Discussion\nKOHC Project Updates and Resources\nMember Updates\n\nFollowing the Coalition meeting\, we will offer an optional FREE Pediatric Abusive Head Trauma Prevention and Recognition Training for oral health professionals. \nFREE CEUs are available for dentists and dental hygienists for the Coalition meeting and additional credits are available for the training. \nThis meeting and training will be a hybrid format with a limited number of in-person seats in Louisville\, KY and the remaining attendees can join virtually. \nRegister for the in-person meeting and/or training here. \nRegister for the virtual meeting and/or training here.
URL:https://faceitabuse.org/event/kentucky-oral-health-coalition-march-meeting-free-paht-training/
CATEGORIES:Child Abuse Prevention Month
END:VEVENT
END:VCALENDAR