BEGIN:VCALENDAR
VERSION:2.0
PRODID:-//Face It - ECPv6.15.18//NONSGML v1.0//EN
CALSCALE:GREGORIAN
METHOD:PUBLISH
X-ORIGINAL-URL:https://faceitabuse.org
X-WR-CALDESC:Events for Face It
REFRESH-INTERVAL;VALUE=DURATION:PT1H
X-Robots-Tag:noindex
X-PUBLISHED-TTL:PT1H
BEGIN:VTIMEZONE
TZID:America/Kentucky/Louisville
BEGIN:DAYLIGHT
TZOFFSETFROM:-0500
TZOFFSETTO:-0400
TZNAME:EDT
DTSTART:20250309T070000
END:DAYLIGHT
BEGIN:STANDARD
TZOFFSETFROM:-0400
TZOFFSETTO:-0500
TZNAME:EST
DTSTART:20251102T060000
END:STANDARD
BEGIN:DAYLIGHT
TZOFFSETFROM:-0500
TZOFFSETTO:-0400
TZNAME:EDT
DTSTART:20260308T070000
END:DAYLIGHT
BEGIN:STANDARD
TZOFFSETFROM:-0400
TZOFFSETTO:-0500
TZNAME:EST
DTSTART:20261101T060000
END:STANDARD
BEGIN:DAYLIGHT
TZOFFSETFROM:-0500
TZOFFSETTO:-0400
TZNAME:EDT
DTSTART:20270314T070000
END:DAYLIGHT
BEGIN:STANDARD
TZOFFSETFROM:-0400
TZOFFSETTO:-0500
TZNAME:EST
DTSTART:20271107T060000
END:STANDARD
END:VTIMEZONE
BEGIN:VEVENT
DTSTART;TZID=America/Kentucky/Louisville:20260508T130000
DTEND;TZID=America/Kentucky/Louisville:20260508T140000
DTSTAMP:20260425T075853
CREATED:20260424T122728Z
LAST-MODIFIED:20260424T122728Z
UID:16246-1778245200-1778248800@faceitabuse.org
SUMMARY:Blueprint Webinar - House Bill 6: A Deep Dive for Childcare Providers
DESCRIPTION:Join this webinar on May 8 from 1:00 – 2:00 pm EST for a deep dive into House Bill 6 and what that means for childcare providers and the impact on Kentucky kids. The conversation will be facilitated by Sarah Vanover\, Kentucky Youth Advocates\, Liz McQuillen\, Metro United Way\, and Mandy Marler\, Baldwin Consulting. \n1 hour child care training credit available for those who attend the training. Register here. \nDate: Friday\, May 8\, 2026\nTime: 1:00 PM EST\nLocation: Virtual \n 
URL:https://faceitabuse.org/event/blueprint-webinar-house-bill-6-a-deep-dive-for-childcare-providers/
END:VEVENT
BEGIN:VEVENT
DTSTART;TZID=America/Kentucky/Louisville:20260509T113000
DTEND;TZID=America/Kentucky/Louisville:20260509T130000
DTSTAMP:20260425T075853
CREATED:20260227T182840Z
LAST-MODIFIED:20260227T182840Z
UID:16101-1778326200-1778331600@faceitabuse.org
SUMMARY:Seven Counties Services/CCC - Kids Expo 2026
DESCRIPTION:Kids Expo 2026 is a full day of fun and educational activities for school age children and their families. The event is free and includes free Derby City Pizza\, Kona Ice\, door prizes\, a crock pot cookbook\, and free crockpots (while supplies last). This year’s event will provide education on reducing food insecurity in our community and strengthening attachments between children and caregivers. Registration ahead of event is preferred but families can register upon arrival. \nActivities include:\n• Louisville Sports Commission activities for children accompanied by adults\n• Free Photo Booth with take home photo\n• Central Creativity will provide hands on STEM activities\n• DJ on site\n• Free Kona Ice ( while supplies last)\n• Performance by Kentucky Kids on the Block\n• Resources\, Vendors and much more!! \nMay 9th 11:30-1:30 pm EST\nEisenhower Elementary School\, Jessamine Lane\, Louisville\, KY\nContact cmccarthy@sevencounties.org with question.
URL:https://faceitabuse.org/event/seven-counties-services-ccc-kids-expo-2026/
END:VEVENT
BEGIN:VEVENT
DTSTART;TZID=America/Kentucky/Louisville:20260515T083000
DTEND;TZID=America/Kentucky/Louisville:20260515T103000
DTSTAMP:20260425T075853
CREATED:20260327T205832Z
LAST-MODIFIED:20260327T205832Z
UID:16178-1778833800-1778841000@faceitabuse.org
SUMMARY:Face It Bluegrass Lecture & Award Breakfast 2026
DESCRIPTION:Join the Kosair for Kids Face It Movement’s Bluegrass Team for the 2026 Spring Breakfast. We will present the Fearless Advocate for Children Everywhere Award to someone who embodies a deep commitment to helping\, protecting\, and improving the lives of children. Following the award\, join us for a panel discussion on the HOPE (Healthy Outcomes from Positive Experiences) Framework and a panel discussion with: \nDebbie Link\, Child Care Council\nDr. Stephanie Gusler\, UK Center on Trauma and Children\nReuben Watson\, Lexington Leadership Foundation\nJulie Breitigan\, Life Adventure Center \nCEUs available for Social Work; pending for Nursing. REGISTER. \nDate: Friday\, May 15\, 2026\nTime: 8:30AM EST – 10:30AM EST\nLocation: K Club\, 1398 Sports Center Dr\, Lexington\, KY 40502
URL:https://faceitabuse.org/event/face-it-bluegrass-lecture-award-breakfast-2026/
END:VEVENT
END:VCALENDAR