BEGIN:VCALENDAR
VERSION:2.0
PRODID:-//Face It - ECPv6.15.18//NONSGML v1.0//EN
CALSCALE:GREGORIAN
METHOD:PUBLISH
X-ORIGINAL-URL:https://faceitabuse.org
X-WR-CALDESC:Events for Face It
REFRESH-INTERVAL;VALUE=DURATION:PT1H
X-Robots-Tag:noindex
X-PUBLISHED-TTL:PT1H
BEGIN:VTIMEZONE
TZID:America/Kentucky/Louisville
BEGIN:DAYLIGHT
TZOFFSETFROM:-0500
TZOFFSETTO:-0400
TZNAME:EDT
DTSTART:20240310T070000
END:DAYLIGHT
BEGIN:STANDARD
TZOFFSETFROM:-0400
TZOFFSETTO:-0500
TZNAME:EST
DTSTART:20241103T060000
END:STANDARD
BEGIN:DAYLIGHT
TZOFFSETFROM:-0500
TZOFFSETTO:-0400
TZNAME:EDT
DTSTART:20250309T070000
END:DAYLIGHT
BEGIN:STANDARD
TZOFFSETFROM:-0400
TZOFFSETTO:-0500
TZNAME:EST
DTSTART:20251102T060000
END:STANDARD
BEGIN:DAYLIGHT
TZOFFSETFROM:-0500
TZOFFSETTO:-0400
TZNAME:EDT
DTSTART:20260308T070000
END:DAYLIGHT
BEGIN:STANDARD
TZOFFSETFROM:-0400
TZOFFSETTO:-0500
TZNAME:EST
DTSTART:20261101T060000
END:STANDARD
END:VTIMEZONE
BEGIN:VEVENT
DTSTART;VALUE=DATE:20250808
DTEND;VALUE=DATE:20250913
DTSTAMP:20260424T194342
CREATED:20250808T173106Z
LAST-MODIFIED:20250808T173348Z
UID:15546-1754611200-1757721599@faceitabuse.org
SUMMARY:Parent and Caregiver Survey
DESCRIPTION:Attention Kentucky parents and caregivers! What makes you feel supported? How do you deal with stress? What do you think every parent needs?\n\n\n \n\n\nThe Face It Movement is collecting information on Kentucky parents’ experiences with stress and accessing support. Your responses will help us create a new educational campaign and resources about how to better support parents and caregivers across the state. \n\n\n \n\n\nShare your input! Please complete our short\, anonymous survey.
URL:https://faceitabuse.org/event/parent-and-caregiver-survey/
END:VEVENT
BEGIN:VEVENT
DTSTART;TZID=America/Kentucky/Louisville:20250910T120000
DTEND;TZID=America/Kentucky/Louisville:20250910T130000
DTSTAMP:20260424T194342
CREATED:20250826T154537Z
LAST-MODIFIED:20250826T154537Z
UID:15654-1757505600-1757509200@faceitabuse.org
SUMMARY:Family and Children's Place - Detective Rusch Dedication Event (Detective Michelle Rusch Investigative Wing)
DESCRIPTION:Join Family and Children’s Place on September 10th at 12:00 PM at their Child Advocacy Center (1000 S. 5th St.) as they unveil the Detective Michelle Rusch Investigative Wing. \nDate: September 10\nTime: 12PM\nLocation: Family and Children’s Place 525 Zane St\, Louisville\, KY 40203
URL:https://faceitabuse.org/event/family-and-childrens-place-detective-rusch-dedication-event-detective-michelle-rusch-investigative-wing/
END:VEVENT
BEGIN:VEVENT
DTSTART;TZID=America/Kentucky/Louisville:20250913T110000
DTEND;TZID=America/Kentucky/Louisville:20250913T140000
DTSTAMP:20260424T194342
CREATED:20250819T161129Z
LAST-MODIFIED:20250828T132827Z
UID:15620-1757761200-1757772000@faceitabuse.org
SUMMARY:The Art of Healing - Lexington
DESCRIPTION:Join The Well of Lexington\, City of Lexington\, LexArts\, Face It Movement and Fayette County Public Schools for The Art of Healing Lexington on September 13 from 11AM – 2PM ET. Celebrate creativity\, resilience\, and healing through interactive art\, music\, movement\, and storytelling with local artists—highlighting the power of creative expression builds resilience and supports youth mental health. Fun & Free for the Whole Family! Grab your tickets. \nLexington Public Library\nCentral Library\n140 E Main St\, Lexington\, KY 40507 \nFor more information\, contact Melissa Wallace at mwallace@lexingtonky.gov
URL:https://faceitabuse.org/event/art-of-healing-lexington/
END:VEVENT
BEGIN:VEVENT
DTSTART;TZID=America/Kentucky/Louisville:20250918T110000
DTEND;TZID=America/Kentucky/Louisville:20250918T120000
DTSTAMP:20260424T194342
CREATED:20250826T154906Z
LAST-MODIFIED:20250826T154906Z
UID:15656-1758193200-1758196800@faceitabuse.org
SUMMARY:142nd Family & Children's Place Birthday Celebration Lunch (Staff & Partner Appreciation)
DESCRIPTION:Join us on 9/18/2025 for a day filled with celebrating Give for Good Louisville and our 142nd birthday! Email oalexander@famchildplace.org to RSVP. \nDate: September 18\nTime: 11AM\nLocation: Family and Children’s Place 525 Zane St\, Louisville\, KY 40203
URL:https://faceitabuse.org/event/142nd-family-childrens-place-birthday-celebration-lunch-staff-partner-appreciation/
END:VEVENT
BEGIN:VEVENT
DTSTART;TZID=America/Kentucky/Louisville:20250918T170000
DTEND;TZID=America/Kentucky/Louisville:20250918T180000
DTSTAMP:20260424T194342
CREATED:20250826T155117Z
LAST-MODIFIED:20250826T155117Z
UID:15658-1758214800-1758218400@faceitabuse.org
SUMMARY:Family and Children's Place - Courtyard of Champions: Celebrating Give for Good Louisville and our 142nd Birthday (Donor & Partner Appreciation)
DESCRIPTION:Join us on September 18th at our campus (525 Zane St.) for Courtyard of Champions Donor & Partner Cocktail Reception – an evening filled with celebrating Give for Good Louisville and our 142nd birthday! Email (oalexander@famchildplace.org) to RSVP. \nDate: September 18\nTime: 5PM\nLocation: Family and Children’s Place 525 Zane St\, Louisville\, KY 40203
URL:https://faceitabuse.org/event/family-and-childrens-place-courtyard-of-champions-celebrating-give-for-good-louisville-and-our-142nd-birthday-donor-partner-appreciation/
END:VEVENT
BEGIN:VEVENT
DTSTART;TZID=America/Kentucky/Louisville:20250919T110000
DTEND;TZID=America/Kentucky/Louisville:20250919T120000
DTSTAMP:20260424T194342
CREATED:20250820T201231Z
LAST-MODIFIED:20250820T201303Z
UID:15639-1758279600-1758283200@faceitabuse.org
SUMMARY:Face It Curiosity Club - Abuse in Child Care Programs
DESCRIPTION:The Kosair for Kids Face It Movement invites you to our next Curiosity Club event on Friday\, September 19 at 11:00 AM ET. We’ll be joined by Dr. Sarah Vanover\, Policy and Advocacy Director at Kentucky Youth Advocates\, who will discuss the troubling rise in child abuse cases occurring in child care centers. This is a great opportunity to learn more about the contributing factors behind this increase\, discuss actionable strategies to ensure the health and safety of every child in child care centers\, and connect with like-minded professionals and advocates. Register. \nDate: Friday\, September 19\nTime: 11:00 AM-12:00 PM ET\nLocation: Zoom \nECE and Social Work CEU’s available. 
URL:https://faceitabuse.org/event/15639/
END:VEVENT
BEGIN:VEVENT
DTSTART;TZID=America/Kentucky/Louisville:20250920T100000
DTEND;TZID=America/Kentucky/Louisville:20250920T120000
DTSTAMP:20260424T194342
CREATED:20250808T181243Z
LAST-MODIFIED:20250918T201144Z
UID:15551-1758362400-1758369600@faceitabuse.org
SUMMARY:This event has been cancelled - TEN-4-FACESp Training with Dr. Sarah Vanover
DESCRIPTION:Join the Kosair For Kids Face It Movement for a FREE virtual training on Pediatric Abusive Head Trauma prevention and recognition and the TEN-4-FACESp Bruising Rule with Dr. Sarah Vanover for child care staff and volunteers. This event is IN-PERSON at Centenary Church 2800 Tates Creek Rd\, Lexington\, KY 40502. \nPediatric abusive head trauma (AHT)\, or shaken baby syndrome\, is a severe form of child abuse that most often involves infants. In these Pediatric Abusive Head Trauma Prevention & Recognition trainings\, participants will learn the early signs of maltreatment and the various injuries and conditions that may result from vigorous shaking\, slamming\, or impacting the head of an infant or young child. They will also be provided tools for dealing with a crying infant and ways to share information with parents to prevent abuse from occurring. \nTraining objectives are to explain the statistics of abusive head trauma; to describe and explain abusive head trauma and its associated injuries; to discuss risk factors and prevention\, and to describe the outcomes for victims. \nAPPROVED CEUs: Dental\, FRYSC\, and Social Work\nPENDING CEUs: CHW (Community Health Workers)\, Emergency Medical Service providers\, Early Childhood Educators\, and Nurses. Register here. \nDate: September 20\nTime: 10AM – 12PM ET
URL:https://faceitabuse.org/event/ten-4-facesp-training-with-dr-sarah-vanover/
CATEGORIES:TEN-4
END:VEVENT
BEGIN:VEVENT
DTSTART;TZID=America/Kentucky/Louisville:20250923T120000
DTEND;TZID=America/Kentucky/Louisville:20250923T130000
DTSTAMP:20260424T194342
CREATED:20250911T181711Z
LAST-MODIFIED:20250911T181727Z
UID:15758-1758628800-1758632400@faceitabuse.org
SUMMARY:Life Adventure Center - Wellness for Caregivers Workshop
DESCRIPTION:Caring for others is rewarding—but it can also be overwhelming. Join us for a supportive\, free workshop designed to help you understand how the body responds to stress\, explore simple stress-relief techniques\, and take time for your own personal wellness.\n\n\n Facilitated by Julie Breitigan\, Executive Director of Life Adventure Center\n Gatton Beaumont YMCA\, 3251 Beaumont Center Circle\n September 23 | 12:00 PM – 1:00 PM\n LifeAdventureCenter.org/Trainings\n\n\nNo registration required. Come as you are—all parents and caregivers are welcome.
URL:https://faceitabuse.org/event/15758/
END:VEVENT
BEGIN:VEVENT
DTSTART;TZID=America/Kentucky/Louisville:20250925T160000
DTEND;TZID=America/Kentucky/Louisville:20250925T200000
DTSTAMP:20260424T194342
CREATED:20250808T194857Z
LAST-MODIFIED:20250808T194857Z
UID:15574-1758816000-1758830400@faceitabuse.org
SUMMARY:ECHO - In Their Shoes: Small Soles\, Big Impact!
DESCRIPTION:Bourbon & Bonbons Has a New Name—and an Even Bigger Mission \nAfter five transformative years\, we’re thrilled to introduce “In Their Shoes: Small Soles\, Big Impacts”—a name that captures the heart of who we serve and why we fight for them every day. This isn’t just a name change—it’s a powerful statement. As we kick off Bullying Prevention Month\, join us for an evening where every moment\, every dollar\, and every connection makes a real difference in a child’s life. \nWhat awaits you:\n-Fall racing at the iconic Churchill Downs\n-Our beloved Bourbon Pull with premium selections\n-Curated silent auction featuring must-have items\n-An atmosphere where purpose meets celebration \nThis event honors the real journeys of the brave young people we serve. It celebrates the life-changing impact that supporters like you make possible. And it ensures that no child in our community faces abuse alone. Together\, we’re not just attending an event—we’re building a movement. \nBuy Tickets NOW- Early Bird Special! Buy Now SAVE $15! \nFor more information:\nPhone (502) 634-6058\nEmail sonja@echo-ky.org\nVisit Our Website: echo-ky.org \nStep into purpose. ✨ In Their Shoes is where impact meets celebration. 🎟️ Save $15—get your tickets now! \nDate: Thursday\, September 25\nTime: 4PM – 8PM\nLocation: Starting Gate Suites\, Churchill Downs (700 Central Ave\, Louisville\, KY 40208)\nRegister here.
URL:https://faceitabuse.org/event/echo-in-their-shoes-small-soles-big-impact/
END:VEVENT
BEGIN:VEVENT
DTSTART;TZID=America/Kentucky/Louisville:20250930T090000
DTEND;TZID=America/Kentucky/Louisville:20250930T110000
DTSTAMP:20260424T194342
CREATED:20250808T182704Z
LAST-MODIFIED:20250924T202131Z
UID:15556-1759222800-1759230000@faceitabuse.org
SUMMARY:TEN-4-FACESp Training with Carla Hay
DESCRIPTION:Join the Kosair For Kids Face It Movement for a FREE virtual training on Pediatric Abusive Head Trauma prevention and recognition and the TEN-4-FACESp Bruising Rule with Carla Hay MSN\, RN\, SANE AA/PA\, AFN-C. This training is specialized for dental professionals. This event is virtual via Zoom. \nPediatric abusive head trauma (AHT)\, or shaken baby syndrome\, is a severe form of child abuse that most often involves infants. In these Pediatric Abusive Head Trauma Prevention & Recognition trainings\, participants will learn the early signs of maltreatment and the various injuries and conditions that may result from vigorous shaking\, slamming\, or impacting the head of an infant or young child. They will also be provided tools for dealing with a crying infant and ways to share information with parents to prevent abuse from occurring. \nTraining objectives are to explain the statistics of abusive head trauma; to describe and explain abusive head trauma and its associated injuries; to discuss risk factors and prevention\, and to describe the outcomes for victims. \nAPPROVED CEUs: Community Health Worker\, Dentists\, Dental Hygienists\, EILA\, Emergency Medical Services\, FRYSC\, Nursing\, Occupational Therapy\, Speech Therapy\, Social Work\, Certificate of Attendance. Register here. \nDate: September 30\nTime: 9AM – 11AM ET
URL:https://faceitabuse.org/event/ten-4-facesp-training-with-carla-hay-2/
CATEGORIES:TEN-4
END:VEVENT
END:VCALENDAR