BEGIN:VCALENDAR
VERSION:2.0
PRODID:-//Face It - ECPv6.15.18//NONSGML v1.0//EN
CALSCALE:GREGORIAN
METHOD:PUBLISH
X-ORIGINAL-URL:https://faceitabuse.org
X-WR-CALDESC:Events for Face It
REFRESH-INTERVAL;VALUE=DURATION:PT1H
X-Robots-Tag:noindex
X-PUBLISHED-TTL:PT1H
BEGIN:VTIMEZONE
TZID:America/Kentucky/Louisville
BEGIN:DAYLIGHT
TZOFFSETFROM:-0500
TZOFFSETTO:-0400
TZNAME:EDT
DTSTART:20240310T070000
END:DAYLIGHT
BEGIN:STANDARD
TZOFFSETFROM:-0400
TZOFFSETTO:-0500
TZNAME:EST
DTSTART:20241103T060000
END:STANDARD
BEGIN:DAYLIGHT
TZOFFSETFROM:-0500
TZOFFSETTO:-0400
TZNAME:EDT
DTSTART:20250309T070000
END:DAYLIGHT
BEGIN:STANDARD
TZOFFSETFROM:-0400
TZOFFSETTO:-0500
TZNAME:EST
DTSTART:20251102T060000
END:STANDARD
BEGIN:DAYLIGHT
TZOFFSETFROM:-0500
TZOFFSETTO:-0400
TZNAME:EDT
DTSTART:20260308T070000
END:DAYLIGHT
BEGIN:STANDARD
TZOFFSETFROM:-0400
TZOFFSETTO:-0500
TZNAME:EST
DTSTART:20261101T060000
END:STANDARD
END:VTIMEZONE
BEGIN:VEVENT
DTSTART;TZID=America/Kentucky/Louisville:20251206T103000
DTEND;TZID=America/Kentucky/Louisville:20251206T123000
DTSTAMP:20260424T150402
CREATED:20251103T181412Z
LAST-MODIFIED:20251103T181412Z
UID:15904-1765017000-1765024200@faceitabuse.org
SUMMARY:FEAT of Louisville Sensory Friendly Christmas Party
DESCRIPTION:Join FEAT of Louisville for our sensory friendly Christmas Party at Kay & Jim Morrissey Aquatic Therapy Center at Home of the Innocents \nDate: Saturday\, December 6\nTime: 10:30am – 12::30pm (Santa will arrive at 11 and he has to leave at 12:30pm)\nLocation: 1100 E Market St\, Louisville\, KY 40206\nRegister \nPlease register for your family. This is a FREE\, LIMITED ticket event so please only register if you are able to attend.
URL:https://faceitabuse.org/event/feat-of-louisville-sensory-friendly-christmas-party/
END:VEVENT
BEGIN:VEVENT
DTSTART;TZID=America/Kentucky/Louisville:20251208T153000
DTEND;TZID=America/Kentucky/Louisville:20251208T183000
DTSTAMP:20260424T150402
CREATED:20251201T201556Z
LAST-MODIFIED:20251201T201556Z
UID:15940-1765207800-1765218600@faceitabuse.org
SUMMARY:Life Adventure Center - Support Over Silence
DESCRIPTION:Support Over Silence for KIDS was developed by a team of experts in public health\, parenting\, injury prevention\, pediatrics\, child abuse\, psychology\, marketing\, program design and evaluation. This three-hour training prepares community members to confidently provide support during a challenging moment between a caregiver and their child in public. Six interactive modules teach participants the importance of this support and allows them to practice the skills needed to engage with caregivers and kids in a non-judgmental way. \nLocation: Support Over Silence 570 Milner Rd\, Versailles\, KY\nDate: December 8\, 2025\nTime: 3:30PM EST\nCost: $10\nRegister \n 
URL:https://faceitabuse.org/event/life-adventure-center-support-over-silence/
END:VEVENT
BEGIN:VEVENT
DTSTART;TZID=America/Kentucky/Louisville:20251209T170000
DTEND;TZID=America/Kentucky/Louisville:20251209T190000
DTSTAMP:20260424T150402
CREATED:20251201T201938Z
LAST-MODIFIED:20251201T202102Z
UID:15942-1765299600-1765306800@faceitabuse.org
SUMMARY:Jewish Family Career Center - Community Chat | Pathways to Success - Equipping Louisville's Youth
DESCRIPTION:Join Jewish Family Career Center for this dynamic panel discussion designed to help Louisville’s youth – and those who support them – explore opportunities\, community resources\, and practical tools that prepare young people for a confident start in the workforce. \nThis Community Chat is geared towards service providers\, social service professionals and anyone who works with substance misuse individuals and families. This discussion is FREE and OPEN TO THE PUBLIC. ALL ARE WELCOME! RSVP is requested for planning purposes! \nDate: December 9\, 2025\nTime: 5:00PM EST\nLocation: Jewish Family & Career Services\, Klempner Way\, Louisville\, KY\nRSVP
URL:https://faceitabuse.org/event/jewish-family-career-center-community-chat-pathways-to-success-equipping-louisvilles-youth/
END:VEVENT
END:VCALENDAR