BEGIN:VCALENDAR
VERSION:2.0
PRODID:-//Face It - ECPv6.15.18//NONSGML v1.0//EN
CALSCALE:GREGORIAN
METHOD:PUBLISH
X-ORIGINAL-URL:https://faceitabuse.org
X-WR-CALDESC:Events for Face It
REFRESH-INTERVAL;VALUE=DURATION:PT1H
X-Robots-Tag:noindex
X-PUBLISHED-TTL:PT1H
BEGIN:VTIMEZONE
TZID:America/Kentucky/Louisville
BEGIN:DAYLIGHT
TZOFFSETFROM:-0500
TZOFFSETTO:-0400
TZNAME:EDT
DTSTART:20250309T070000
END:DAYLIGHT
BEGIN:STANDARD
TZOFFSETFROM:-0400
TZOFFSETTO:-0500
TZNAME:EST
DTSTART:20251102T060000
END:STANDARD
BEGIN:DAYLIGHT
TZOFFSETFROM:-0500
TZOFFSETTO:-0400
TZNAME:EDT
DTSTART:20260308T070000
END:DAYLIGHT
BEGIN:STANDARD
TZOFFSETFROM:-0400
TZOFFSETTO:-0500
TZNAME:EST
DTSTART:20261101T060000
END:STANDARD
BEGIN:DAYLIGHT
TZOFFSETFROM:-0500
TZOFFSETTO:-0400
TZNAME:EDT
DTSTART:20270314T070000
END:DAYLIGHT
BEGIN:STANDARD
TZOFFSETFROM:-0400
TZOFFSETTO:-0500
TZNAME:EST
DTSTART:20271107T060000
END:STANDARD
END:VTIMEZONE
BEGIN:VEVENT
DTSTART;TZID=America/Kentucky/Louisville:20260204T173000
DTEND;TZID=America/Kentucky/Louisville:20260204T193000
DTSTAMP:20260424T114331
CREATED:20260128T185812Z
LAST-MODIFIED:20260128T185812Z
UID:16029-1770226200-1770233400@faceitabuse.org
SUMMARY:Center for Women and Families - In Their Shoes Workshops: Teen Dating Violence Awareness
DESCRIPTION:Teen dating violence impacts 1 in 3 teens. In Their Shoes is an evidence-based experiential program designed to help teens and adults gain a deeper understanding of what dating looks like in today’s world. \nThrough interactive scenarios\, participants step into the lives of one of six characters—each based on real teen experiences involving issues such as sexting\, pregnancy\, homophobia\, and stalking. Registration is free. Learn more. Contact margaret.scripps@cwfempower.org with questions. \nDates and Locations:\n2/4 at 5:30-7:30pm at Southwest Family YMCA\n2/11 at 5:30-7:30pm at Republic Bank Foundation YMCA\n2/18 at 5:30-7:30pm at YMCA Safe Place Services\n2/25 at 6-8pm at YMCA at Norton Commons \n  \n 
URL:https://faceitabuse.org/event/center-for-women-and-families-in-their-shoes-workshops-teen-dating-violence-awareness/
END:VEVENT
BEGIN:VEVENT
DTSTART;TZID=America/Kentucky/Louisville:20260211T173000
DTEND;TZID=America/Kentucky/Louisville:20260211T193000
DTSTAMP:20260424T114331
CREATED:20260128T190515Z
LAST-MODIFIED:20260128T190515Z
UID:16032-1770831000-1770838200@faceitabuse.org
SUMMARY:Center for Women and Families - In Their Shoes Workshops: Teen Dating Violence Awareness
DESCRIPTION:Teen dating violence impacts 1 in 3 teens. In Their Shoes is an evidence-based experiential program designed to help teens and adults gain a deeper understanding of what dating looks like in today’s world. \nThrough interactive scenarios\, participants step into the lives of one of six characters—each based on real teen experiences involving issues such as sexting\, pregnancy\, homophobia\, and stalking. Registration is free. Learn more. Contact margaret.scripps@cwfempower.org with questions. \nDates and Locations:\n2/11 at 5:30-7:30pm at Republic Bank Foundation YMCA\n2/18 at 5:30-7:30pm at YMCA Safe Place Services\n2/25 at 6-8pm at YMCA at Norton Commons
URL:https://faceitabuse.org/event/center-for-women-and-families-in-their-shoes-workshops-teen-dating-violence-awareness-2/
END:VEVENT
BEGIN:VEVENT
DTSTART;TZID=America/Kentucky/Louisville:20260218T173000
DTEND;TZID=America/Kentucky/Louisville:20260218T193000
DTSTAMP:20260424T114331
CREATED:20260128T195956Z
LAST-MODIFIED:20260128T195956Z
UID:16034-1771435800-1771443000@faceitabuse.org
SUMMARY:Center for Women and Families - In Their Shoes Workshops: Teen Dating Violence Awareness
DESCRIPTION:Teen dating violence impacts 1 in 3 teens. In Their Shoes is an evidence-based experiential program designed to help teens and adults gain a deeper understanding of what dating looks like in today’s world. \nThrough interactive scenarios\, participants step into the lives of one of six characters—each based on real teen experiences involving issues such as sexting\, pregnancy\, homophobia\, and stalking. Registration is free. Learn more. Contact margaret.scripps@cwfempower.org with questions. \nDates and Locations:\n2/18 at 5:30-7:30pm at YMCA Safe Place Services\n2/25 at 6-8pm at YMCA at Norton Commons
URL:https://faceitabuse.org/event/center-for-women-and-families-in-their-shoes-workshops-teen-dating-violence-awareness-3/
END:VEVENT
BEGIN:VEVENT
DTSTART;TZID=America/Kentucky/Louisville:20260225T180000
DTEND;TZID=America/Kentucky/Louisville:20260225T200000
DTSTAMP:20260424T114331
CREATED:20260128T200147Z
LAST-MODIFIED:20260128T200147Z
UID:16036-1772042400-1772049600@faceitabuse.org
SUMMARY:Center for Women and Families - In Their Shoes Workshops: Teen Dating Violence Awareness
DESCRIPTION:Teen dating violence impacts 1 in 3 teens. In Their Shoes is an evidence-based experiential program designed to help teens and adults gain a deeper understanding of what dating looks like in today’s world. \nThrough interactive scenarios\, participants step into the lives of one of six characters—each based on real teen experiences involving issues such as sexting\, pregnancy\, homophobia\, and stalking. Registration is free. Learn more. Contact margaret.scripps@cwfempower.org with questions. \nDates and Locations:\n2/25 at 6-8pm at YMCA at Norton Commons
URL:https://faceitabuse.org/event/center-for-women-and-families-in-their-shoes-workshops-teen-dating-violence-awareness-4/
END:VEVENT
END:VCALENDAR