BEGIN:VCALENDAR
VERSION:2.0
PRODID:-//Face It - ECPv6.15.18//NONSGML v1.0//EN
CALSCALE:GREGORIAN
METHOD:PUBLISH
X-WR-CALNAME:Face It
X-ORIGINAL-URL:https://faceitabuse.org
X-WR-CALDESC:Events for Face It
REFRESH-INTERVAL;VALUE=DURATION:PT1H
X-Robots-Tag:noindex
X-PUBLISHED-TTL:PT1H
BEGIN:VTIMEZONE
TZID:America/Kentucky/Louisville
BEGIN:DAYLIGHT
TZOFFSETFROM:-0500
TZOFFSETTO:-0400
TZNAME:EDT
DTSTART:20250309T070000
END:DAYLIGHT
BEGIN:STANDARD
TZOFFSETFROM:-0400
TZOFFSETTO:-0500
TZNAME:EST
DTSTART:20251102T060000
END:STANDARD
BEGIN:DAYLIGHT
TZOFFSETFROM:-0500
TZOFFSETTO:-0400
TZNAME:EDT
DTSTART:20260308T070000
END:DAYLIGHT
BEGIN:STANDARD
TZOFFSETFROM:-0400
TZOFFSETTO:-0500
TZNAME:EST
DTSTART:20261101T060000
END:STANDARD
BEGIN:DAYLIGHT
TZOFFSETFROM:-0500
TZOFFSETTO:-0400
TZNAME:EDT
DTSTART:20270314T070000
END:DAYLIGHT
BEGIN:STANDARD
TZOFFSETFROM:-0400
TZOFFSETTO:-0500
TZNAME:EST
DTSTART:20271107T060000
END:STANDARD
END:VTIMEZONE
BEGIN:VTIMEZONE
TZID:America/Chicago
BEGIN:DAYLIGHT
TZOFFSETFROM:-0600
TZOFFSETTO:-0500
TZNAME:CDT
DTSTART:20250309T080000
END:DAYLIGHT
BEGIN:STANDARD
TZOFFSETFROM:-0500
TZOFFSETTO:-0600
TZNAME:CST
DTSTART:20251102T070000
END:STANDARD
BEGIN:DAYLIGHT
TZOFFSETFROM:-0600
TZOFFSETTO:-0500
TZNAME:CDT
DTSTART:20260308T080000
END:DAYLIGHT
BEGIN:STANDARD
TZOFFSETFROM:-0500
TZOFFSETTO:-0600
TZNAME:CST
DTSTART:20261101T070000
END:STANDARD
BEGIN:DAYLIGHT
TZOFFSETFROM:-0600
TZOFFSETTO:-0500
TZNAME:CDT
DTSTART:20270314T080000
END:DAYLIGHT
BEGIN:STANDARD
TZOFFSETFROM:-0500
TZOFFSETTO:-0600
TZNAME:CST
DTSTART:20271107T070000
END:STANDARD
END:VTIMEZONE
BEGIN:VEVENT
DTSTART;TZID=America/Kentucky/Louisville:20260317T083000
DTEND;TZID=America/Kentucky/Louisville:20260317T153000
DTSTAMP:20260424T094110
CREATED:20260128T184945Z
LAST-MODIFIED:20260128T184945Z
UID:16025-1773736200-1773761400@faceitabuse.org
SUMMARY:UofL Health-Peace Hospital's 4th Annual Behavioral Health Summit
DESCRIPTION:Join UofL Health-Peace Hospital’s 4th Annual Behavioral Health Summit on March 17 for a day of insightful discussions and networking opportunities. The summit will feature Keynote Brandon Soho\, Founder of the podcast and movement The Mental Game focused on mental health advocacy\, as well as other experts in the field. \nWhether you’re a behavioral health professional\, student\, or simply interested in learning more\, this event is perfect for you. Don’t miss out on this chance to connect with like-minded individuals and gain valuable insights into the latest trends and developments in the industry. Mark your calendars and secure your spot at the UofL Health – Peace Hospital Behavioral Health Summit! CEUs available for various professions.  \nTickets and agenda on EventBrite.\nContact lisa.prewitt@uoflhealth.org with questions.\nDate: March 17\nTime: 8:30am-3:30pm\nLocation: L&N Federal Credit Union Stadium\, South Floyd Street\, Louisville\, KY
URL:https://faceitabuse.org/event/uofl-health-peace-hospitals-4th-annual-behavioral-health-summit/
END:VEVENT
BEGIN:VEVENT
DTSTART;TZID=America/Kentucky/Louisville:20260324T110000
DTEND;TZID=America/Kentucky/Louisville:20260324T130000
DTSTAMP:20260424T094110
CREATED:20260227T175435Z
LAST-MODIFIED:20260227T175435Z
UID:16077-1774350000-1774357200@faceitabuse.org
SUMMARY:CASA of the Heartland - Pinwheels for Prevention: LaRue County
DESCRIPTION:Please join CASA of the Heartland for Pinwheels for Prevention as we plant pinwheels to raise awareness for child abuse victims in our community. \nPinwheels for Prevention is a national campaign\, and the pinwheels symbolize childlike whimsy\, lightheartedness\, and our vision for a world where all children grow up happy\, healthy\, and prepared to succeed. By planting pinwheels\, we aim to raise awareness about child abuse victims in our community and advocate for a brighter future for all children. Learn more.  \nTuesday\, March 24th from 11:00am – 1:00pm EST\nLincoln Square\, Hodgenville\, KY\nContact casastaff@casaheartland.org with questions.
URL:https://faceitabuse.org/event/casa-of-the-heartland-pinwheels-for-prevention-larue-county/
CATEGORIES:Child Abuse Prevention Month
END:VEVENT
BEGIN:VEVENT
DTSTART;TZID=America/Kentucky/Louisville:20260325T110000
DTEND;TZID=America/Kentucky/Louisville:20260325T130000
DTSTAMP:20260424T094110
CREATED:20260227T175803Z
LAST-MODIFIED:20260227T175803Z
UID:16080-1774436400-1774443600@faceitabuse.org
SUMMARY:CASA of the Heartland - Pinwheels for Prevention: Meade County
DESCRIPTION:Please join CASA of the Heartland for Pinwheels for Prevention as we plant pinwheels to raise awareness for child abuse victims in our community. \nPinwheels for Prevention is a national campaign\, and the pinwheels symbolize childlike whimsy\, lightheartedness\, and our vision for a world where all children grow up happy\, healthy\, and prepared to succeed. By planting pinwheels\, we aim to raise awareness about child abuse victims in our community and advocate for a brighter future for all children. Learn more. \nWednesday\, March 25th from 11:00am – 1:00pm EST\nMeade County Bank\, 2175 ByPass Road\, Brandenburg\, Meade\, KY\nContact casastaff@casaheartland.org with questions.
URL:https://faceitabuse.org/event/casa-of-the-heartland-pinwheels-for-prevention-meade-county/
CATEGORIES:Child Abuse Prevention Month
END:VEVENT
BEGIN:VEVENT
DTSTART;TZID=America/Kentucky/Louisville:20260326T110000
DTEND;TZID=America/Kentucky/Louisville:20260326T130000
DTSTAMP:20260424T094110
CREATED:20260227T180128Z
LAST-MODIFIED:20260227T180128Z
UID:16083-1774522800-1774530000@faceitabuse.org
SUMMARY:CASA of the Heartland - Pinwheels for Prevention: Hardin County
DESCRIPTION:Please join CASA of the Heartland for Pinwheels for Prevention as we plant pinwheels to raise awareness for child abuse victims in our community. \nPinwheels for Prevention is a national campaign\, and the pinwheels symbolize childlike whimsy\, lightheartedness\, and our vision for a world where all children grow up happy\, healthy\, and prepared to succeed. By planting pinwheels\, we aim to raise awareness about child abuse victims in our community and advocate for a brighter future for all children. \nPapa Haoles’s Food Truck will be on sight from 11:00 AM – 1:00 PM and lunch is sponsored by the Elizabethtown Police Department. Learn more. \n  \nThursday\, March 26th from 11:00am – 1:00pm EST\nElizabethtown Police Department\, South Mulberry Street\, Elizabethtown\, KY\nContact casastaff@casaheartland.org with questions.
URL:https://faceitabuse.org/event/casa-of-the-heartland-pinwheels-for-prevention-hardin-county/
CATEGORIES:Child Abuse Prevention Month
END:VEVENT
BEGIN:VEVENT
DTSTART;TZID=America/Kentucky/Louisville:20260326T183000
DTEND;TZID=America/Kentucky/Louisville:20260326T200000
DTSTAMP:20260424T094110
CREATED:20260320T144802Z
LAST-MODIFIED:20260320T144802Z
UID:16139-1774549800-1774555200@faceitabuse.org
SUMMARY:Early Childhood Special Education Training: Fetal Alcohol Spectrum Disorder
DESCRIPTION:Join us for a VIRTUAL training on March 26 from 6:30 – 8:00 pm EST focused on Fetal Alcohol Spectrum Disorder with Holly Lafavers. 1.5 hour child care training credit (ECE) available. \nTraining objectives: \n1. Be able to identify red flags of Fetal Alcohol Spectrum Disorder.\n2. Understand why the correct diagnosis is important for children with FASD.\n3. Broad understanding of the effects alcohol has on the development of a fetus.\n4. Adaptations that can be made to help a child with FASD in a child care setting. \nThursday\, March 26\, 2026\n6:30 PM EST\nVirtual \n\nREGISTER
URL:https://faceitabuse.org/event/early-childhood-special-education-training-fetal-alcohol-spectrum-disorder/
END:VEVENT
BEGIN:VEVENT
DTSTART;TZID=America/Kentucky/Louisville:20260327T103000
DTEND;TZID=America/Kentucky/Louisville:20260327T120000
DTSTAMP:20260424T094110
CREATED:20260209T232733Z
LAST-MODIFIED:20260209T232951Z
UID:16054-1774607400-1774612800@faceitabuse.org
SUMMARY:CASA - Embrace a Child Brunch
DESCRIPTION:Embrace a Child brings together community partners and supporters to highlight the impact of volunteer advocacy for children who have experienced abuse and neglect. Through the event program\, CASA of the River Region’s mission is on full display—showcasing how trained volunteers ensure children’s voices are heard in the child welfare system. Funds raised support CASA of the River Region’s efforts to promote\, recruit\, and sustain volunteer advocacy for children in our community. \nRegister below and reserve your seat today. \n​Please contact nicole@casarr.org or 502-400-8040 with questions or to learn more about event sponsorships. \nDate: March 27\nTime: 10:30 AM\nLocation: The Olmsted\, Frankfort Avenue\, Louisville\, KY
URL:https://faceitabuse.org/event/casa-embrace-a-child-brunch/
END:VEVENT
BEGIN:VEVENT
DTSTART;TZID=America/Chicago:20260330T110000
DTEND;TZID=America/Chicago:20260330T130000
DTSTAMP:20260424T094110
CREATED:20260227T180550Z
LAST-MODIFIED:20260227T180550Z
UID:16087-1774868400-1774875600@faceitabuse.org
SUMMARY:CASA of the Heartland - Pinwheels for Prevention: Breckinridge County
DESCRIPTION:Please join CASA of the Heartland for Pinwheels for Prevention as we plant pinwheels to raise awareness for child abuse victims in our community. \nPinwheels for Prevention is a national campaign\, and the pinwheels symbolize childlike whimsy\, lightheartedness\, and our vision for a world where all children grow up happy\, healthy\, and prepared to succeed. By planting pinwheels\, we aim to raise awareness about child abuse victims in our community and advocate for a brighter future for all children. Learn more. \nMonday\, March 30th from 11:00am – 1:00pm CST\nFirst State Bank\, 1017 Old State Road 60\, Hardinsburg\, KY\nContact casastaff@casaheartland.org with questions.
URL:https://faceitabuse.org/event/casa-of-the-heartland-pinwheels-for-prevention-breckinridge-county/
CATEGORIES:Child Abuse Prevention Month
END:VEVENT
BEGIN:VEVENT
DTSTART;TZID=America/Chicago:20260331T110000
DTEND;TZID=America/Chicago:20260331T130000
DTSTAMP:20260424T094110
CREATED:20260227T180859Z
LAST-MODIFIED:20260227T180908Z
UID:16091-1774954800-1774962000@faceitabuse.org
SUMMARY:CASA of the Heartland - Pinwheels for Prevention: Hart County
DESCRIPTION:Please join CASA of the Heartland for Pinwheels for Prevention as we plant pinwheels to raise awareness for child abuse victims in our community. \nPinwheels for Prevention is a national campaign\, and the pinwheels symbolize childlike whimsy\, lightheartedness\, and our vision for a world where all children grow up happy\, healthy\, and prepared to succeed. By planting pinwheels\, we aim to raise awareness about child abuse victims in our community and advocate for a brighter future for all children. Learn more. \nTuesday\, March 31st from 11:00am – 1:00pm CST\n117 South St\, Munfordville\, Hart County\, KY\nContact casastaff@casaheartland.org with questions.
URL:https://faceitabuse.org/event/casa-of-the-heartland-pinwheels-for-prevention-hart-county/
CATEGORIES:Child Abuse Prevention Month
END:VEVENT
BEGIN:VEVENT
DTSTART;TZID=America/Kentucky/Louisville:20260331T130000
DTEND;TZID=America/Kentucky/Louisville:20260331T150000
DTSTAMP:20260424T094110
CREATED:20260320T145135Z
LAST-MODIFIED:20260320T145135Z
UID:16145-1774962000-1774969200@faceitabuse.org
SUMMARY:Face It Spring Full Partner meeting
DESCRIPTION:We are looking forward to seeing everyone at the Spring Full Partner meeting on Tuesday\, March 31st from 1-3pm ET at Kosair for Kids (982 Eastern Pkwy\, Louisville\, KY 40217). This is a great opportunity to connect with other Face It partners from across the state. We will have a virtual option for folks who can’t make it to Louisville\, so please let us know if you plan to join virtually.
URL:https://faceitabuse.org/event/face-it-spring-full-partner-meeting/
CATEGORIES:Child Abuse Prevention Month
END:VEVENT
END:VCALENDAR