BEGIN:VCALENDAR
VERSION:2.0
PRODID:-//Face It - ECPv6.15.18//NONSGML v1.0//EN
CALSCALE:GREGORIAN
METHOD:PUBLISH
X-ORIGINAL-URL:https://faceitabuse.org
X-WR-CALDESC:Events for Face It
REFRESH-INTERVAL;VALUE=DURATION:PT1H
X-Robots-Tag:noindex
X-PUBLISHED-TTL:PT1H
BEGIN:VTIMEZONE
TZID:America/Kentucky/Louisville
BEGIN:DAYLIGHT
TZOFFSETFROM:-0500
TZOFFSETTO:-0400
TZNAME:EDT
DTSTART:20180311T070000
END:DAYLIGHT
BEGIN:STANDARD
TZOFFSETFROM:-0400
TZOFFSETTO:-0500
TZNAME:EST
DTSTART:20181104T060000
END:STANDARD
BEGIN:DAYLIGHT
TZOFFSETFROM:-0500
TZOFFSETTO:-0400
TZNAME:EDT
DTSTART:20190310T070000
END:DAYLIGHT
BEGIN:STANDARD
TZOFFSETFROM:-0400
TZOFFSETTO:-0500
TZNAME:EST
DTSTART:20191103T060000
END:STANDARD
BEGIN:DAYLIGHT
TZOFFSETFROM:-0500
TZOFFSETTO:-0400
TZNAME:EDT
DTSTART:20200308T070000
END:DAYLIGHT
BEGIN:STANDARD
TZOFFSETFROM:-0400
TZOFFSETTO:-0500
TZNAME:EST
DTSTART:20201101T060000
END:STANDARD
END:VTIMEZONE
BEGIN:VEVENT
DTSTART;TZID=America/Kentucky/Louisville:20190917T183000
DTEND;TZID=America/Kentucky/Louisville:20190917T203000
DTSTAMP:20260425T081108
CREATED:20190822T130719Z
LAST-MODIFIED:20190822T130840Z
UID:4772-1568745000-1568752200@faceitabuse.org
SUMMARY:Instagram ate my daughter and my son won't stop playing Fortnite: What Parents Need to Know to Improve the Odds for Their Children
DESCRIPTION:Parents\, join our Face It partners at the Archdiocese for a special presentation by physician\, psychologist\, and best selling author Dr. Leonard Sax MD\, PhD. \nTuesday\, September 17  from 6:30-8:30 p.m. at Mercy Academy \nInstagram ate my daughter and my son won’t stop playing Fortnite: What Parents Need to Know to Improve the Odds for Their Children \n• What are kids really doing online and on their smartphones with social media?\n• How do I respond when my child experiences disappointment?\n• What can I do to improve the odds for my child?\n• How can evidence-based guidelines for best practices in parenting empower me? \nA NEW YORK TIMES BESTSELLER THE COLLAPSE OF PARENTING\nDr. Leonard Sax MD\, PhD\, graduated Phi Beta Kappa from MIT at the age of 19. In this presentation\, he draws on 26 years of clinical experience-as well as his visits to over 400 schools in the past 17 years—to share his recommendations with fellow parents. More about Dr. Sax and his four books\, including the New York Times bestseller\, The Collapse of Parenting\, can be found at www.leonardsax.com. \n 
URL:https://faceitabuse.org/event/instagram-ate-my-daughter-and-my-son-wont-stop-playing-fortnite-what-parents-need-to-know-to-improve-the-odds-for-their-children/
LOCATION:Mercy Academy\, 5801 Fegenbush Lane\, Louisville\, KY\, 40228
END:VEVENT
END:VCALENDAR