BEGIN:VCALENDAR
VERSION:2.0
PRODID:-//Face It - ECPv6.15.18//NONSGML v1.0//EN
CALSCALE:GREGORIAN
METHOD:PUBLISH
X-WR-CALNAME:Face It
X-ORIGINAL-URL:https://faceitabuse.org
X-WR-CALDESC:Events for Face It
REFRESH-INTERVAL;VALUE=DURATION:PT1H
X-Robots-Tag:noindex
X-PUBLISHED-TTL:PT1H
BEGIN:VTIMEZONE
TZID:America/Kentucky/Louisville
BEGIN:DAYLIGHT
TZOFFSETFROM:-0500
TZOFFSETTO:-0400
TZNAME:EDT
DTSTART:20180311T070000
END:DAYLIGHT
BEGIN:STANDARD
TZOFFSETFROM:-0400
TZOFFSETTO:-0500
TZNAME:EST
DTSTART:20181104T060000
END:STANDARD
BEGIN:DAYLIGHT
TZOFFSETFROM:-0500
TZOFFSETTO:-0400
TZNAME:EDT
DTSTART:20190310T070000
END:DAYLIGHT
BEGIN:STANDARD
TZOFFSETFROM:-0400
TZOFFSETTO:-0500
TZNAME:EST
DTSTART:20191103T060000
END:STANDARD
BEGIN:DAYLIGHT
TZOFFSETFROM:-0500
TZOFFSETTO:-0400
TZNAME:EDT
DTSTART:20200308T070000
END:DAYLIGHT
BEGIN:STANDARD
TZOFFSETFROM:-0400
TZOFFSETTO:-0500
TZNAME:EST
DTSTART:20201101T060000
END:STANDARD
END:VTIMEZONE
BEGIN:VEVENT
DTSTART;TZID=America/Kentucky/Louisville:20190909T080000
DTEND;TZID=America/Kentucky/Louisville:20190910T170000
DTSTAMP:20260423T164348
CREATED:20190813T161308Z
LAST-MODIFIED:20190813T163504Z
UID:4711-1568016000-1568134800@faceitabuse.org
SUMMARY:Prevent Child Abuse KY's Kids Are Worth It!® Conference
DESCRIPTION:23rd Annual Kids are Worth It!® Conference \nSeptember 9th & 10th\, 2019 \nLexington Convention Center \nKentucky’s premier multidisciplinary child abuse and neglect prevention conference. Two keynote sessions and over 38 workshops with trending topics like what providers should know about opioids and children\, human trafficking\, attitudes towards corporal punishment\, drug and alcohol trends\, suicide prevention\, helping children after loss\, sudden unexpected infant deaths\, preventing child neglect\, homelessness in families/children\, pediatric abusive head trauma\, collaborating on investigations\, working with trauma-exposed children and many more!
URL:https://faceitabuse.org/event/kids-are-worth-it-conference/
LOCATION:Lexington Convention Center
END:VEVENT
END:VCALENDAR