BEGIN:VCALENDAR
VERSION:2.0
PRODID:-//Face It - ECPv6.15.18//NONSGML v1.0//EN
CALSCALE:GREGORIAN
METHOD:PUBLISH
X-ORIGINAL-URL:https://faceitabuse.org
X-WR-CALDESC:Events for Face It
REFRESH-INTERVAL;VALUE=DURATION:PT1H
X-Robots-Tag:noindex
X-PUBLISHED-TTL:PT1H
BEGIN:VTIMEZONE
TZID:America/Kentucky/Louisville
BEGIN:DAYLIGHT
TZOFFSETFROM:-0500
TZOFFSETTO:-0400
TZNAME:EDT
DTSTART:20170312T070000
END:DAYLIGHT
BEGIN:STANDARD
TZOFFSETFROM:-0400
TZOFFSETTO:-0500
TZNAME:EST
DTSTART:20171105T060000
END:STANDARD
BEGIN:DAYLIGHT
TZOFFSETFROM:-0500
TZOFFSETTO:-0400
TZNAME:EDT
DTSTART:20180311T070000
END:DAYLIGHT
BEGIN:STANDARD
TZOFFSETFROM:-0400
TZOFFSETTO:-0500
TZNAME:EST
DTSTART:20181104T060000
END:STANDARD
BEGIN:DAYLIGHT
TZOFFSETFROM:-0500
TZOFFSETTO:-0400
TZNAME:EDT
DTSTART:20190310T070000
END:DAYLIGHT
BEGIN:STANDARD
TZOFFSETFROM:-0400
TZOFFSETTO:-0500
TZNAME:EST
DTSTART:20191103T060000
END:STANDARD
END:VTIMEZONE
BEGIN:VEVENT
DTSTART;TZID=America/Kentucky/Louisville:20180724T083000
DTEND;TZID=America/Kentucky/Louisville:20180726T083000
DTSTAMP:20260424T192124
CREATED:20180716T144339Z
LAST-MODIFIED:20180718T143742Z
UID:3678-1532421000-1532593800@faceitabuse.org
SUMMARY:Peace Education: Training of Educators
DESCRIPTION:Training of Educators in Conflict Resolution and Peer Mediation is a 3-day training being held in July for School personnel and youth workers interested in creating or maintaining a youth mediation program in their schools or community centers.   The training will be held at 318 W. Kentucky Street\, Louisville. Workshop hours are 8:30am – 4:00pm.  KDE has approved 15 EILA hours. \nParticipants will learn to: \n\nAddress basic conflict resolution theory\nCreate a site based mediation program\nTrain youth mediators through hands-on activities\nInvolve other staff members in programming\n\nFee is $350 per person or $650 for a two-person team.  Training includes a manual\, daily continental breakfast and boxed lunch. \nRegistration required.  To register online complete the form below or click here to download a printable registration form. Registration deadline is July 13th.
URL:https://faceitabuse.org/event/peace-education-training-of-educators/
LOCATION:318 West Kentucky Street\, 318 West Kentucky Street\, Louisville\, KY\, 40203\, United States
END:VEVENT
END:VCALENDAR